BEGIN:VCALENDAR
VERSION:2.0
PRODID:-//YOSSYxYOSSY OFFICIAL SITE - ECPv6.2.4//NONSGML v1.0//EN
CALSCALE:GREGORIAN
METHOD:PUBLISH
X-ORIGINAL-URL:https://yossyxyossy.com
X-WR-CALDESC:YOSSYxYOSSY OFFICIAL SITE のイベント
REFRESH-INTERVAL;VALUE=DURATION:PT1H
X-Robots-Tag:noindex
X-PUBLISHED-TTL:PT1H
BEGIN:VTIMEZONE
TZID:Asia/Tokyo
BEGIN:STANDARD
TZOFFSETFROM:+0900
TZOFFSETTO:+0900
TZNAME:JST
DTSTART:20260101T000000
END:STANDARD
END:VTIMEZONE
BEGIN:VEVENT
DTSTART;VALUE=DATE:20260502
DTEND;VALUE=DATE:20260503
DTSTAMP:20260422T173058
CREATED:20260224T050902Z
LAST-MODIFIED:20260224T051430Z
UID:1769-1777680000-1777766399@yossyxyossy.com
SUMMARY:Drawing Our Harbor～GW3MAN
DESCRIPTION:2026年5月2日(土)\n【タイトル】\n「Drawing Our Harbor～GW3MAN」\n【時間】\nOPEN12:00/START12:30\n【料金】\n前売¥4\,000 当日¥4\,500(ドリンク代別)\n【出演者】\nYOSSYxYOSSY/shinji/H.M.C\n【会場】\nAgeha Base\n兵庫県神戸市中央区下山手通２丁目１−４ ＫＷビル 地下1F \n2/24 20:00 予約開始\nhttps://tiget.net/events/469611 \n【入場順】\n1. 各アーティスト予約(番号並列順)\n2.当日(予約で完売の場合は当日券出ません)\n＊オープン15分前までの整列はご遠慮下さい。ご協力お願い致します。
URL:https://yossyxyossy.com/event/drawing-our-harbor%ef%bd%9egw3man/
ATTACH;FMTTYPE=image/jpeg:https://yossyxyossy.com/wp-content/uploads/2026/02/S__56156318.jpg
END:VEVENT
BEGIN:VEVENT
DTSTART;VALUE=DATE:20260502
DTEND;VALUE=DATE:20260503
DTSTAMP:20260422T173058
CREATED:20260224T050959Z
LAST-MODIFIED:20260224T051252Z
UID:1772-1777680000-1777766399@yossyxyossy.com
SUMMARY:土江野家×吉田野家合同企画〜本日のおすすめは「唐揚げ豚汁定食」です。
DESCRIPTION:■2026年5月2日(土)\n【タイトル】\n土江野家×吉田野家合同企画〜本日のおすすめは「唐揚げ豚汁定食」です。\n【時間】\nOPEN18:30\n※来た方から食事を受け取って下さい♪\n【料金】\n前売¥7\,000食事付き(ドリンク代別)\n※各自ご自宅で愛用のお茶碗、お椀、箸をご持参ください。アレルギー等ある方は事前にご連絡ください。\n【出演者】\nYOSSYxYOSSY/shinji/H.M.C\n【会場】\nAgeha Base\n兵庫県神戸市中央区下山手通２丁目１−４ ＫＷビル 地下1F \n2/24 21:00予約開始\nhttps://tiget.net/events/469614 \n【入場順】\n1. 各アーティスト予約(番号並列順)\n2.当日(予約で完売の場合は当日券出ません)\n＊オープン15分前までの整列はご遠慮下さい。ご協力お願い致します。
URL:https://yossyxyossy.com/event/%e5%9c%9f%e6%b1%9f%e9%87%8e%e5%ae%b6x%e5%90%89%e7%94%b0%e9%87%8e%e5%ae%b6%e5%90%88%e5%90%8c%e4%bc%81%e7%94%bb%e3%80%9c%e6%9c%ac%e6%97%a5%e3%81%ae%e3%81%8a%e3%81%99%e3%81%99%e3%82%81%e3%81%af/
ATTACH;FMTTYPE=image/jpeg:https://yossyxyossy.com/wp-content/uploads/2026/02/S__56156308.jpg
END:VEVENT
END:VCALENDAR