BEGIN:VCALENDAR
VERSION:2.0
PRODID:-//YOSSYxYOSSY OFFICIAL SITE - ECPv6.2.4//NONSGML v1.0//EN
CALSCALE:GREGORIAN
METHOD:PUBLISH
X-ORIGINAL-URL:https://yossyxyossy.com
X-WR-CALDESC:YOSSYxYOSSY OFFICIAL SITE のイベント
REFRESH-INTERVAL;VALUE=DURATION:PT1H
X-Robots-Tag:noindex
X-PUBLISHED-TTL:PT1H
BEGIN:VTIMEZONE
TZID:Asia/Tokyo
BEGIN:STANDARD
TZOFFSETFROM:+0900
TZOFFSETTO:+0900
TZNAME:JST
DTSTART:20260101T000000
END:STANDARD
END:VTIMEZONE
BEGIN:VEVENT
DTSTART;VALUE=DATE:20260419
DTEND;VALUE=DATE:20260420
DTSTAMP:20260422T122514
CREATED:20260115T032442Z
LAST-MODIFIED:20260224T053719Z
UID:1748-1776556800-1776643199@yossyxyossy.com
SUMMARY:Drawing Our Map
DESCRIPTION:2026年4月19日(日)\n【タイトル】\nDrawing Our Map\n【時間】\nOPEN12:30/START13:00\n【料金】\n前売4\,000円/当日¥4\,500 (ドリンク代別)\n【出演】\nH.M.C/Shinji/YOSSY×YOSSY\n【会場】\n国分寺GiveHearts\n東京都国分寺市本多２丁目１−４ \n1/26 20:00〜予約開始\nhttps://tiget.net/events/462132 \n【入場順】\n1. 各アーティスト予約(並列番号順)\n2.当日\n＊オープン15分前までの整列はご遠慮下さい。15分前に整列している場合スタッフから声を掛けさせて頂くこともありますのでご協力よろしくお願い致します。\n【予約URL】
URL:https://yossyxyossy.com/event/%e6%9d%b1%e4%ba%ac-5/
ATTACH;FMTTYPE=image/jpeg:https://yossyxyossy.com/wp-content/uploads/2026/01/G_fl0onagAAgXHI.jpg
END:VEVENT
END:VCALENDAR