BEGIN:VCALENDAR
VERSION:2.0
PRODID:-//YOSSYxYOSSY OFFICIAL SITE - ECPv6.2.4//NONSGML v1.0//EN
CALSCALE:GREGORIAN
METHOD:PUBLISH
X-ORIGINAL-URL:https://yossyxyossy.com
X-WR-CALDESC:YOSSYxYOSSY OFFICIAL SITE のイベント
REFRESH-INTERVAL;VALUE=DURATION:PT1H
X-Robots-Tag:noindex
X-PUBLISHED-TTL:PT1H
BEGIN:VTIMEZONE
TZID:Asia/Tokyo
BEGIN:STANDARD
TZOFFSETFROM:+0900
TZOFFSETTO:+0900
TZNAME:JST
DTSTART:20260101T000000
END:STANDARD
END:VTIMEZONE
BEGIN:VEVENT
DTSTART;VALUE=DATE:20260320
DTEND;VALUE=DATE:20260321
DTSTAMP:20260422T122524
CREATED:20260106T135220Z
LAST-MODIFIED:20260106T135349Z
UID:1723-1773964800-1774051199@yossyxyossy.com
SUMMARY:TOMOFES the REAL vol.2
DESCRIPTION:⚠️チケットと予約を足して数に限りがあります。\n先に予約を受け付けまして、残った枚数のチケットを物販で販売させて頂きます。\n予約で埋まった場合はチケットの販売はありません。\n予約済みの方は物販でチケットに引き換え可能です。（受付中） \n3月20日 \nTOMOFES the REAL vol.2\n\n《出演者》秋休/そよかぜ大根雄馬/大橋タカシ/想ワレ/STAYG/ZILCONIA/立川翼/西村加奈/YOSSYxYOSSY/TOMOKI\n\n《会場》LIVE HOUSE CASHBOX\n神戸市中央区二宮町4-21-9 オレンジビル1F\n\n《時間》open 12:00 / start 13:00\n\n《料金》前売り5000円/当日5500円(D代別)\n\n《入場順》前売りチケット整列順→\n各アーティストご予約\n※予約受付の有無はアーティストにより異なりますのでアーティストへご確認ください。\n\n※当日の整列は開場の10分前よりお願いいたします。
URL:https://yossyxyossy.com/event/tomofes-the-real-vol-2/
ATTACH;FMTTYPE=image/jpeg:https://yossyxyossy.com/wp-content/uploads/2026/01/写真-2026-01-06-22-51-23.jpg
END:VEVENT
END:VCALENDAR