BEGIN:VCALENDAR
VERSION:2.0
PRODID:-//YOSSYxYOSSY OFFICIAL SITE - ECPv6.2.4//NONSGML v1.0//EN
CALSCALE:GREGORIAN
METHOD:PUBLISH
X-WR-CALNAME:YOSSYxYOSSY OFFICIAL SITE
X-ORIGINAL-URL:https://yossyxyossy.com
X-WR-CALDESC:YOSSYxYOSSY OFFICIAL SITE のイベント
REFRESH-INTERVAL;VALUE=DURATION:PT1H
X-Robots-Tag:noindex
X-PUBLISHED-TTL:PT1H
BEGIN:VTIMEZONE
TZID:Asia/Tokyo
BEGIN:STANDARD
TZOFFSETFROM:+0900
TZOFFSETTO:+0900
TZNAME:JST
DTSTART:20260101T000000
END:STANDARD
END:VTIMEZONE
BEGIN:VEVENT
DTSTART;VALUE=DATE:20260314
DTEND;VALUE=DATE:20260315
DTSTAMP:20260422T122258
CREATED:20260224T052152Z
LAST-MODIFIED:20260224T052234Z
UID:1779-1773446400-1773532799@yossyxyossy.com
SUMMARY:大阪で吉田vol.5
DESCRIPTION:3月14日(日)\n「大阪で吉田vol.5」\n会場:Meet’Space\n大阪府大阪市阿倍野区阿倍野筋２丁目１−１８ サードビル 4階 \n開場17:40開演18:00 \n¥3500 (1D代別途) \n2月18日日21:00〜予約開始\nhttps://tiget.net/events/467637
URL:https://yossyxyossy.com/event/%e5%a4%a7%e9%98%aa%e3%81%a7%e5%90%89%e7%94%b0vol-5/
ATTACH;FMTTYPE=image/jpeg:https://yossyxyossy.com/wp-content/uploads/2026/02/S__43221005.jpg
END:VEVENT
END:VCALENDAR