BEGIN:VCALENDAR
VERSION:2.0
PRODID:-//YOSSYxYOSSY OFFICIAL SITE - ECPv6.2.4//NONSGML v1.0//EN
CALSCALE:GREGORIAN
METHOD:PUBLISH
X-WR-CALNAME:YOSSYxYOSSY OFFICIAL SITE
X-ORIGINAL-URL:https://yossyxyossy.com
X-WR-CALDESC:YOSSYxYOSSY OFFICIAL SITE のイベント
REFRESH-INTERVAL;VALUE=DURATION:PT1H
X-Robots-Tag:noindex
X-PUBLISHED-TTL:PT1H
BEGIN:VTIMEZONE
TZID:Asia/Tokyo
BEGIN:STANDARD
TZOFFSETFROM:+0900
TZOFFSETTO:+0900
TZNAME:JST
DTSTART:20260101T000000
END:STANDARD
END:VTIMEZONE
BEGIN:VEVENT
DTSTART;VALUE=DATE:20260223
DTEND;VALUE=DATE:20260224
DTSTAMP:20260422T122205
CREATED:20260115T031314Z
LAST-MODIFIED:20260115T031314Z
UID:1739-1771804800-1771891199@yossyxyossy.com
SUMMARY:「ONE SOUND」 ダイエー桂南 フリーライブ
DESCRIPTION:2月23日(月祝)\n「ONE SOUND」\nダイエー桂南 \n観覧無料
URL:https://yossyxyossy.com/event/%e3%80%8cone-sound%e3%80%8d-%e3%83%80%e3%82%a4%e3%82%a8%e3%83%bc%e6%a1%82%e5%8d%97-%e3%83%95%e3%83%aa%e3%83%bc%e3%83%a9%e3%82%a4%e3%83%96/
ATTACH;FMTTYPE=image/jpeg:https://yossyxyossy.com/wp-content/uploads/2026/01/S__55681224.jpg
END:VEVENT
END:VCALENDAR