BEGIN:VCALENDAR
VERSION:2.0
PRODID:-//YOSSYxYOSSY OFFICIAL SITE - ECPv6.2.4//NONSGML v1.0//EN
CALSCALE:GREGORIAN
METHOD:PUBLISH
X-ORIGINAL-URL:https://yossyxyossy.com
X-WR-CALDESC:YOSSYxYOSSY OFFICIAL SITE のイベント
REFRESH-INTERVAL;VALUE=DURATION:PT1H
X-Robots-Tag:noindex
X-PUBLISHED-TTL:PT1H
BEGIN:VTIMEZONE
TZID:Asia/Tokyo
BEGIN:STANDARD
TZOFFSETFROM:+0900
TZOFFSETTO:+0900
TZNAME:JST
DTSTART:20260101T000000
END:STANDARD
END:VTIMEZONE
BEGIN:VEVENT
DTSTART;VALUE=DATE:20260125
DTEND;VALUE=DATE:20260126
DTSTAMP:20260422T155228
CREATED:20260115T030515Z
LAST-MODIFIED:20260115T030515Z
UID:1729-1769299200-1769385599@yossyxyossy.com
SUMMARY:「吉田野家」練馬店
DESCRIPTION:1月25日\n「吉田野家」練馬店\n店舗:ひまわりスター\n19:00開店\n¥5500(食事+飲み物) \n1月10日21:00〜予約開始\nhttps://tiget.net/events/457499\n※めし碗をご持参下さい
URL:https://yossyxyossy.com/event/%e3%80%8c%e5%90%89%e7%94%b0%e9%87%8e%e5%ae%b6%e3%80%8d%e7%b7%b4%e9%a6%ac%e5%ba%97/
ATTACH;FMTTYPE=image/jpeg:https://yossyxyossy.com/wp-content/uploads/2026/01/吉田野家.jpg
END:VEVENT
END:VCALENDAR