BEGIN:VCALENDAR
VERSION:2.0
PRODID:-//YOSSYxYOSSY OFFICIAL SITE - ECPv6.2.4//NONSGML v1.0//EN
CALSCALE:GREGORIAN
METHOD:PUBLISH
X-ORIGINAL-URL:https://yossyxyossy.com
X-WR-CALDESC:YOSSYxYOSSY OFFICIAL SITE のイベント
REFRESH-INTERVAL;VALUE=DURATION:PT1H
X-Robots-Tag:noindex
X-PUBLISHED-TTL:PT1H
BEGIN:VTIMEZONE
TZID:Asia/Tokyo
BEGIN:STANDARD
TZOFFSETFROM:+0900
TZOFFSETTO:+0900
TZNAME:JST
DTSTART:20260101T000000
END:STANDARD
END:VTIMEZONE
BEGIN:VEVENT
DTSTART;VALUE=DATE:20260118
DTEND;VALUE=DATE:20260119
DTSTAMP:20260422T155227
CREATED:20260106T134334Z
LAST-MODIFIED:20260106T134334Z
UID:1715-1768694400-1768780799@yossyxyossy.com
SUMMARY:（昼）愛知フリーライブ
DESCRIPTION:詳細をお待ちください
URL:https://yossyxyossy.com/event/%ef%bc%88%e6%98%bc%ef%bc%89%e6%84%9b%e7%9f%a5%e3%83%95%e3%83%aa%e3%83%bc%e3%83%a9%e3%82%a4%e3%83%96/
END:VEVENT
BEGIN:VEVENT
DTSTART;VALUE=DATE:20260118
DTEND;VALUE=DATE:20260119
DTSTAMP:20260422T155227
CREATED:20260106T134658Z
LAST-MODIFIED:20260106T134658Z
UID:1717-1768694400-1768780799@yossyxyossy.com
SUMMARY:「うたまろデビュー20周年〜友達も集めて分かちあって乾杯して〜」
DESCRIPTION:●公演日時\n2026年1月18日(日)\nOpen 18:30 / Start 19:00\n※全席自由\n●公演会場\n名古屋・CENTRE\n愛知県名古屋市中区新栄2丁目1-9 雲竜フレックスビル 東館 1F\nhttps://www.centre.nagoya\n●チケット\n前売り3500円 / 当日4000円（D代別途）\n配信チケット（ツイキャス配信）3000円\n※入場順 / ①予約(当日開場15分前抽選)\n②当日(整列順)\n\n■チケット予約受付\nhttps://tiget.net/events/451364\n\n（受付期間・12/18(木) 21:00 〜 1/17(金) 23:59）\n※定員に達し次第受付締め切りとさせていただきます。\n■配信チケット\n▶購入ページ（ツイキャス配信）\n※詳細後日
URL:https://yossyxyossy.com/event/%e3%80%8c%e3%81%86%e3%81%9f%e3%81%be%e3%82%8d%e3%83%87%e3%83%93%e3%83%a5%e3%83%bc20%e5%91%a8%e5%b9%b4%e3%80%9c%e5%8f%8b%e9%81%94%e3%82%82%e9%9b%86%e3%82%81%e3%81%a6%e5%88%86%e3%81%8b%e3%81%a1%e3%81%82/
END:VEVENT
END:VCALENDAR