BEGIN:VCALENDAR
VERSION:2.0
PRODID:-//YOSSYxYOSSY OFFICIAL SITE - ECPv6.2.4//NONSGML v1.0//EN
CALSCALE:GREGORIAN
METHOD:PUBLISH
X-ORIGINAL-URL:https://yossyxyossy.com
X-WR-CALDESC:YOSSYxYOSSY OFFICIAL SITE のイベント
REFRESH-INTERVAL;VALUE=DURATION:PT1H
X-Robots-Tag:noindex
X-PUBLISHED-TTL:PT1H
BEGIN:VTIMEZONE
TZID:Asia/Tokyo
BEGIN:STANDARD
TZOFFSETFROM:+0900
TZOFFSETTO:+0900
TZNAME:JST
DTSTART:20260101T000000
END:STANDARD
END:VTIMEZONE
BEGIN:VEVENT
DTSTART;VALUE=DATE:20260117
DTEND;VALUE=DATE:20260118
DTSTAMP:20260422T155204
CREATED:20260106T133802Z
LAST-MODIFIED:20260106T133802Z
UID:1704-1768608000-1768694399@yossyxyossy.com
SUMMARY:Voice fromCASHBOX vol.221
DESCRIPTION:2026年1月17日(土)\n[タイトル]「Voice fromCASHBOX vol.221」 ＊有観客&配信ライブ\n[会場]CASHBOX\n[出演] 哲誠/YOSSY×YOSSY/オオモリヨウヘイ/若宮大起\n[開場/開演]18:00/18:20（配信18:20～）\n[有観客予約方法]\nhttps://tiget.net/events/455715 \n\n\n[料金]有観客 3\,500円(1Drink別途600円・自由席)/配信 3\,000円(システム手数料160円\n[席]自由席\n[受付方法]各出演者にて\n[入場方法] 当日並んだ順の入場になります！\n＊当日開場10分前にスタッフがお呼びいたします！\n(スタッフがお呼びするまでは近隣のご迷惑になりますのでお並び頂けませんのでご注意ください。) \n[配信購入ページ]\nhttps://premier.twitcasting.tv/cashbox_kobe/shopcart/411345\n＊必ず御指名のアーティスト名を記入してください
URL:https://yossyxyossy.com/event/voice-fromcashbox-vol-221/
ATTACH;FMTTYPE=image/jpeg:https://yossyxyossy.com/wp-content/uploads/2026/01/写真-2026-01-06-22-36-07-2.jpg
END:VEVENT
END:VCALENDAR