BEGIN:VCALENDAR
VERSION:2.0
PRODID:-//YOSSYxYOSSY OFFICIAL SITE - ECPv6.2.4//NONSGML v1.0//EN
CALSCALE:GREGORIAN
METHOD:PUBLISH
X-ORIGINAL-URL:https://yossyxyossy.com
X-WR-CALDESC:YOSSYxYOSSY OFFICIAL SITE のイベント
REFRESH-INTERVAL;VALUE=DURATION:PT1H
X-Robots-Tag:noindex
X-PUBLISHED-TTL:PT1H
BEGIN:VTIMEZONE
TZID:Asia/Tokyo
BEGIN:STANDARD
TZOFFSETFROM:+0900
TZOFFSETTO:+0900
TZNAME:JST
DTSTART:20250101T000000
END:STANDARD
END:VTIMEZONE
BEGIN:VEVENT
DTSTART;VALUE=DATE:20251223
DTEND;VALUE=DATE:20251224
DTSTAMP:20260422T173147
CREATED:20251221T092016Z
LAST-MODIFIED:20251221T092028Z
UID:1694-1766448000-1766534399@yossyxyossy.com
SUMMARY:HMR Collection LIVE
DESCRIPTION:2025年12月23日(火)\n「HMR Collection LIVE」\n出演：山口大貴 / 金島準一郎 / YOSSYxYOSSY\n会場：イオン八事ショッピングセンター\n愛知県名古屋市昭和区広路町石坂２−１\n時間：❶13:00～ ❷15:00～\n料金：観覧無料\nhttps://www.aeon.jp/sc/yagoto/\n主催/企画：株式会社Lit -Heart Music Records-
URL:https://yossyxyossy.com/event/hmr-collection-live-7/
ATTACH;FMTTYPE=image/jpeg:https://yossyxyossy.com/wp-content/uploads/2025/12/IMG_9948.jpeg
END:VEVENT
END:VCALENDAR