BEGIN:VCALENDAR
VERSION:2.0
PRODID:-//YOSSYxYOSSY OFFICIAL SITE - ECPv6.2.4//NONSGML v1.0//EN
CALSCALE:GREGORIAN
METHOD:PUBLISH
X-WR-CALNAME:YOSSYxYOSSY OFFICIAL SITE
X-ORIGINAL-URL:https://yossyxyossy.com
X-WR-CALDESC:YOSSYxYOSSY OFFICIAL SITE のイベント
REFRESH-INTERVAL;VALUE=DURATION:PT1H
X-Robots-Tag:noindex
X-PUBLISHED-TTL:PT1H
BEGIN:VTIMEZONE
TZID:Asia/Tokyo
BEGIN:STANDARD
TZOFFSETFROM:+0900
TZOFFSETTO:+0900
TZNAME:JST
DTSTART:20250101T000000
END:STANDARD
END:VTIMEZONE
BEGIN:VEVENT
DTSTART;VALUE=DATE:20251221
DTEND;VALUE=DATE:20251222
DTSTAMP:20260422T173936
CREATED:20251122T120247Z
LAST-MODIFIED:20251122T120247Z
UID:1670-1766275200-1766361599@yossyxyossy.com
SUMMARY:Go!Upstairs! vol.118
DESCRIPTION:2025年12月21日(日)\n[タイトル]「Go!Upstairs! vol.118」 ＊有観客&配信ライブ\n[会場]ArtGarage C-Lump&UP(クランプアップ)\n[出演]山口大貴/YOSSY×YOSSY/Uken/\n[開場/開演] 18:10/18:30（配信18:30～） \n予約受付中\ntiget.net/events/445285 \n  \n[料金]有観客 3\,500円(1Drink別・自由席)/配信 3\,000円(システム手数料160円）\n[席]自由席\n[受付方法]各出演者にて\n[入場方法] 当日並んだ順の入場になります！\n＊当日開場10分前にスタッフがお呼びいたします\n(スタッフがお呼びするまでは近隣のご迷惑になりますのでお並び頂けませんのでご注意ください。) \n[配信購入ページ]\nhttps://premier.twitcasting.tv/c:bank_c_project/shopcart/401202\n＊必ず御指名のアーティスト名を記入してください
URL:https://yossyxyossy.com/event/goupstairs-vol-118/
ATTACH;FMTTYPE=image/jpeg:https://yossyxyossy.com/wp-content/uploads/2025/11/G6QEgxUacAckgjX-1.jpg
END:VEVENT
END:VCALENDAR