BEGIN:VCALENDAR
VERSION:2.0
PRODID:-//YOSSYxYOSSY OFFICIAL SITE - ECPv6.2.4//NONSGML v1.0//EN
CALSCALE:GREGORIAN
METHOD:PUBLISH
X-ORIGINAL-URL:https://yossyxyossy.com
X-WR-CALDESC:YOSSYxYOSSY OFFICIAL SITE のイベント
REFRESH-INTERVAL;VALUE=DURATION:PT1H
X-Robots-Tag:noindex
X-PUBLISHED-TTL:PT1H
BEGIN:VTIMEZONE
TZID:Asia/Tokyo
BEGIN:STANDARD
TZOFFSETFROM:+0900
TZOFFSETTO:+0900
TZNAME:JST
DTSTART:20250101T000000
END:STANDARD
END:VTIMEZONE
BEGIN:VEVENT
DTSTART;VALUE=DATE:20251220
DTEND;VALUE=DATE:20251221
DTSTAMP:20260422T173129
CREATED:20251117T122326Z
LAST-MODIFIED:20251117T122522Z
UID:1661-1766188800-1766275199@yossyxyossy.com
SUMMARY:ONE SOUND
DESCRIPTION:12月20日(土) 「ONE SOUND」 ダイエー桂南店 観覧無料
URL:https://yossyxyossy.com/event/one-sound/
ATTACH;FMTTYPE=image/jpeg:https://yossyxyossy.com/wp-content/uploads/2025/11/G1iQnlFbMAAuqWO-1.jpg
END:VEVENT
END:VCALENDAR