BEGIN:VCALENDAR
VERSION:2.0
PRODID:-//YOSSYxYOSSY OFFICIAL SITE - ECPv6.2.4//NONSGML v1.0//EN
CALSCALE:GREGORIAN
METHOD:PUBLISH
X-ORIGINAL-URL:https://yossyxyossy.com
X-WR-CALDESC:YOSSYxYOSSY OFFICIAL SITE のイベント
REFRESH-INTERVAL;VALUE=DURATION:PT1H
X-Robots-Tag:noindex
X-PUBLISHED-TTL:PT1H
BEGIN:VTIMEZONE
TZID:Asia/Tokyo
BEGIN:STANDARD
TZOFFSETFROM:+0900
TZOFFSETTO:+0900
TZNAME:JST
DTSTART:20250101T000000
END:STANDARD
END:VTIMEZONE
BEGIN:VEVENT
DTSTART;VALUE=DATE:20251212
DTEND;VALUE=DATE:20251213
DTSTAMP:20260422T173231
CREATED:20250717T040625Z
LAST-MODIFIED:20251122T121359Z
UID:1544-1765497600-1765583999@yossyxyossy.com
SUMMARY:ZILCONIA大阪市中央公会堂公演!応援企画!!
DESCRIPTION:2025年12月12日(金)\nZILCONIA 25周年ワンマン前日応援企画 – 大阪環状線遠すぎサーキットフェス-\n12月13日に開催のZILCONIA 25th Anniversary LIVE-Chapter 25-at.\n大阪市中央公会堂\n単独公演の応援企画として沢山のアーティストが大阪に集結!!!! \n[内容] 8会場で行う音楽サーキットフェス\n[会場] 1\,StepHALL 2\,Soap opera classics-umeda- 3\,MUSE BOX 4\,LIVE SQUARE 2nd LINE 5.Livehouse Arc 6\,LIVE HOUSE Rumio 7\,ROCKTOWN（ホール） 8\,ROCKTOWN（レストランエリア） \n［時間］ 開場 17:00 / 開演 17:30 \n［出演者］ 秋休 / アシガルユース / 阿部祐也 / YES!佐藤栞 / うたまろ / 植島さき / 大橋タカシ / ORANGE HOUSE / 片山遼 / 門松良祐 / GA-HA- / 木嶋仁美 / KING / CLOWN’S CROWN / GRAND COLOR STONE / KEN EBISAWA / 作人 / sacra / サナダヒデト / Star T Rat / STAYG / スムルース / そよかぜ大根雄馬 / 瀧本りおな / TAROO / 名迫僚太 / High-G / ハシグチカナデリヤ / ひなた / 平野里沙 / ふらっと♭ / ブルーペンギン / みみみ食堂 / モリナオフミ / 山口大貴 / 山本義則 / Uken / 優利香 / YOSSYxYOSSY \n［料金］ ¥4\,000-(別途ドリンク代要)\n［チケット］\n販売期間 2025.11.12 21:00-12.11 23:59まで\nhttps://tiget.net/events/441614 \n［入場順］ 各会場、開場の10分前からの整列順入場になります。\n［入場時の注意事項］ はじめにご来場の会場にてチケット画面を掲示いただきタップ入場処理を行い【リストバンド】をお渡しします。\n＊TIGETの購入画面を忘れずにご準備の上ご整列ください。\n＊スクリーンショットや画像ではご入場いただけません。\n＊ご準備ができていない場合は次の方を先にご案内させて頂きますのでご了承ください。 ・リストバンドは必ずご自身の手首に装着してください。 (手首以外への装着ではチケット無効となりますのでご注意ください) ・リストバンドに交換後はリストバンド掲示で各会場ご入場いただけます。 ［Drink代に関して］ Drink代は、はじめにご来場いただいた会場にてお支払いください。 Drinkの引き換えは他会場ではできませんので忘れない様にお引き換えください。 ＊Drink代は一度のみのお支払いとなります。その他のサーキット会場ではキャッシュオンでご購入いただけます。 翌日はこちら！ 大阪市中央公会堂-大集会室- ZILCONIA 25th Anniversary LIVE -Chapter25- 開場15:30 開演 16:00 　 へのご来場お待ちしてます!!\n⚫︎全席指定チケット1000円 https://kyodo-osaka.co.jp/search/detail/10154 ⚫︎ZILCONIA支援プラン（全指定席） https://t.livepocket.jp/e/zilconia_25th 公演を支援いただく特典付きの入場チケットです。 （飛行機に例えるとプレミアムエコノミークラス) 前方10列以内確約 非売品タオル ピクチャーチケット（Cタイプ) 直筆サイン入り入場チケット ZILCONIAライブにて上記2種のチケット手売り販売も行ってます!! 13日は11:30〜同開場3階中集会室にてフリーライブも開催!! 是非、12/12.13皆様大阪にお越しください!! よろしくお願いいたします!!
URL:https://yossyxyossy.com/event/%e5%a4%a7%e9%98%aa%e3%80%80zilconia%e5%a4%a7%e9%98%aa%e5%b8%82%e4%b8%ad%e5%a4%ae%e5%85%ac%e4%bc%9a%e5%a0%82%e5%85%ac%e6%bc%94%e5%bf%9c%e6%8f%b4%e4%bc%81%e7%94%bb/
ATTACH;FMTTYPE=image/jpeg:https://yossyxyossy.com/wp-content/uploads/2025/07/G5r7mR5bUAAxEi7.jpg
END:VEVENT
END:VCALENDAR