BEGIN:VCALENDAR
VERSION:2.0
PRODID:-//YOSSYxYOSSY OFFICIAL SITE - ECPv6.2.4//NONSGML v1.0//EN
CALSCALE:GREGORIAN
METHOD:PUBLISH
X-ORIGINAL-URL:https://yossyxyossy.com
X-WR-CALDESC:YOSSYxYOSSY OFFICIAL SITE のイベント
REFRESH-INTERVAL;VALUE=DURATION:PT1H
X-Robots-Tag:noindex
X-PUBLISHED-TTL:PT1H
BEGIN:VTIMEZONE
TZID:Asia/Tokyo
BEGIN:STANDARD
TZOFFSETFROM:+0900
TZOFFSETTO:+0900
TZNAME:JST
DTSTART:20250101T000000
END:STANDARD
END:VTIMEZONE
BEGIN:VEVENT
DTSTART;VALUE=DATE:20251206
DTEND;VALUE=DATE:20251207
DTSTAMP:20260422T173129
CREATED:20251029T104835Z
LAST-MODIFIED:20251122T115832Z
UID:1652-1764979200-1765065599@yossyxyossy.com
SUMMARY:東京で吉田vol.14🗼🦛
DESCRIPTION:12月6日(土)\n弾き語りワンマン\n東京で吉田vol.14🗼🦛\nstudio with\n\nOPEN19:00  START19:30\n¥3500\n\n🟨11月18日21:30〜予約開始\n🟥 https://tiget.net/events/444383
URL:https://yossyxyossy.com/event/%e6%9d%b1%e4%ba%ac-3/
ATTACH;FMTTYPE=image/jpeg:https://yossyxyossy.com/wp-content/uploads/2025/10/写真-2025-11-22-20-58-04.jpg
END:VEVENT
END:VCALENDAR