BEGIN:VCALENDAR
VERSION:2.0
PRODID:-//YOSSYxYOSSY OFFICIAL SITE - ECPv6.2.4//NONSGML v1.0//EN
CALSCALE:GREGORIAN
METHOD:PUBLISH
X-WR-CALNAME:YOSSYxYOSSY OFFICIAL SITE
X-ORIGINAL-URL:https://yossyxyossy.com
X-WR-CALDESC:YOSSYxYOSSY OFFICIAL SITE のイベント
REFRESH-INTERVAL;VALUE=DURATION:PT1H
X-Robots-Tag:noindex
X-PUBLISHED-TTL:PT1H
BEGIN:VTIMEZONE
TZID:Asia/Tokyo
BEGIN:STANDARD
TZOFFSETFROM:+0900
TZOFFSETTO:+0900
TZNAME:JST
DTSTART:20250101T000000
END:STANDARD
END:VTIMEZONE
BEGIN:VEVENT
DTSTART;VALUE=DATE:20251130
DTEND;VALUE=DATE:20251201
DTSTAMP:20260422T192941
CREATED:20251029T104651Z
LAST-MODIFIED:20251122T120450Z
UID:1650-1764460800-1764547199@yossyxyossy.com
SUMMARY:新潟長岡　音むす
DESCRIPTION:詳細はこちら\nhttps://hinata.tv/schedule/20251130/
URL:https://yossyxyossy.com/event/%e6%96%b0%e6%bd%9f%e9%95%b7%e5%b2%a1%e3%80%80%e9%9f%b3%e3%82%80%e3%81%99/
ATTACH;FMTTYPE=image/jpeg:https://yossyxyossy.com/wp-content/uploads/2025/10/1762243374629@2x.jpg
END:VEVENT
END:VCALENDAR