BEGIN:VCALENDAR
VERSION:2.0
PRODID:-//YOSSYxYOSSY OFFICIAL SITE - ECPv6.2.4//NONSGML v1.0//EN
CALSCALE:GREGORIAN
METHOD:PUBLISH
X-WR-CALNAME:YOSSYxYOSSY OFFICIAL SITE
X-ORIGINAL-URL:https://yossyxyossy.com
X-WR-CALDESC:YOSSYxYOSSY OFFICIAL SITE のイベント
REFRESH-INTERVAL;VALUE=DURATION:PT1H
X-Robots-Tag:noindex
X-PUBLISHED-TTL:PT1H
BEGIN:VTIMEZONE
TZID:Asia/Tokyo
BEGIN:STANDARD
TZOFFSETFROM:+0900
TZOFFSETTO:+0900
TZNAME:JST
DTSTART:20250101T000000
END:STANDARD
END:VTIMEZONE
BEGIN:VEVENT
DTSTART;VALUE=DATE:20251129
DTEND;VALUE=DATE:20251130
DTSTAMP:20260422T192943
CREATED:20251029T104558Z
LAST-MODIFIED:20251029T104558Z
UID:1647-1764374400-1764460799@yossyxyossy.com
SUMMARY:音むす前夜祭2025
DESCRIPTION:「音むす前夜祭2025」\n\n■日時\n2025年11月29日(土)\n開場11:00/開演11:30\n\n■会場\nアオーレ長岡 市民交流ホールA\n\n■出演\n植田健一/そよかぜ 大根雄馬/門松良祐/匂い蜂 河合良/サナダヒデト/ナイトスターリリー(阿部祐也＆片山遼)/\nナカノアツシ/ハシグチカナデリヤ/ひなた/モリナオフミ/遊吟/YOSSY×YOSSY\n\n■チケット代（会場受付でチケット代金をお支払いください。）\n前売4\,000円/当日4\,500円\n(中学生以下 2\,000円)\n※未就学児童入場無料。ただし、席が必要な場合は有料です。\n※再入場可\n\n■制限枚数\nなし\n\n■入場順\n1.TIGET予約(A～番号順)\n2.ひなたチケットメール予約(B～番号順)\n3.当日券\n\n■チケット予約方法\n①下記「TIGET」より先着予約申込可能です。\nhttps://tiget.net/events/436861\n\nアンケート欄に必ずお目当てのアーティストの名前を1組ご入力ください。\n\n2名様以上でチケットお申込みされる場合には、人数分のお目当てのアーティスト名を教えてください！\n例）チケット4枚申込\n⇒4組分のお目当てのアーティスト名記載。\n\n②ひなたメール予約\nhinata.ticket@gmail.com まで\n「件名:11/29 音むす前夜祭」\n「本文：1.氏名　2.日時・希望枚数　3.枚数分のお目当てのアーティスト名」\n\n■予約受付開始\n2025年10月17日(金)19:00～\n\n※体調不良などで予約キャンセルをしなければいけない場合は、必ずキャンセル手続きを行ってください。\n（公演前日までは予約サイト内『予約サイト → マイページ → 購入・予約しているチケット』でキャンセル手続き可能です。それ以降はhinata.ticket@gmail.com　までご一報ください。）\n\n▼問い合わせ\nhinata.ticket@gmail.com
URL:https://yossyxyossy.com/event/%e9%9f%b3%e3%82%80%e3%81%99%e5%89%8d%e5%a4%9c%e7%a5%ad2025/
ATTACH;FMTTYPE=image/jpeg:https://yossyxyossy.com/wp-content/uploads/2025/10/C40BD881-07B7-4608-9448-C89915F6B7B6.jpeg
END:VEVENT
END:VCALENDAR