BEGIN:VCALENDAR
VERSION:2.0
PRODID:-//YOSSYxYOSSY OFFICIAL SITE - ECPv6.2.4//NONSGML v1.0//EN
CALSCALE:GREGORIAN
METHOD:PUBLISH
X-ORIGINAL-URL:https://yossyxyossy.com
X-WR-CALDESC:YOSSYxYOSSY OFFICIAL SITE のイベント
REFRESH-INTERVAL;VALUE=DURATION:PT1H
X-Robots-Tag:noindex
X-PUBLISHED-TTL:PT1H
BEGIN:VTIMEZONE
TZID:Asia/Tokyo
BEGIN:STANDARD
TZOFFSETFROM:+0900
TZOFFSETTO:+0900
TZNAME:JST
DTSTART:20250101T000000
END:STANDARD
END:VTIMEZONE
BEGIN:VEVENT
DTSTART;VALUE=DATE:20251123
DTEND;VALUE=DATE:20251124
DTSTAMP:20260422T193428
CREATED:20251029T103931Z
LAST-MODIFIED:20251117T124004Z
UID:1644-1763856000-1763942399@yossyxyossy.com
SUMMARY:Y-41前夜の大阪で吉田vol.3
DESCRIPTION:11月23日(日)\n「Y-41前夜の大阪で吉田vol.3」\n会場:Meet’Space\n大阪府大阪市阿倍野区阿倍野筋２丁目１−１８ サードビル 4階\n\n開場16:00 開演16:30\n\n¥3500 (1D別途)\n\n🟥10月22日21時〜予約開始\n\nhttps://tiget.net/events/438054
URL:https://yossyxyossy.com/event/y-41%e5%89%8d%e5%a4%9c%e3%81%ae%e5%a4%a7%e9%98%aa%e3%81%a7%e5%90%89%e7%94%b0vol-3/
ATTACH;FMTTYPE=image/jpeg:https://yossyxyossy.com/wp-content/uploads/2025/10/S__38109186.jpg
END:VEVENT
END:VCALENDAR