BEGIN:VCALENDAR
VERSION:2.0
PRODID:-//YOSSYxYOSSY OFFICIAL SITE - ECPv6.2.4//NONSGML v1.0//EN
CALSCALE:GREGORIAN
METHOD:PUBLISH
X-ORIGINAL-URL:https://yossyxyossy.com
X-WR-CALDESC:YOSSYxYOSSY OFFICIAL SITE のイベント
REFRESH-INTERVAL;VALUE=DURATION:PT1H
X-Robots-Tag:noindex
X-PUBLISHED-TTL:PT1H
BEGIN:VTIMEZONE
TZID:Asia/Tokyo
BEGIN:STANDARD
TZOFFSETFROM:+0900
TZOFFSETTO:+0900
TZNAME:JST
DTSTART:20250101T000000
END:STANDARD
END:VTIMEZONE
BEGIN:VEVENT
DTSTART;VALUE=DATE:20251120
DTEND;VALUE=DATE:20251121
DTSTAMP:20260422T193340
CREATED:20250828T071531Z
LAST-MODIFIED:20251003T134149Z
UID:1571-1763596800-1763683199@yossyxyossy.com
SUMMARY:遊吟YOSSYxYOSSY BBQと生歌
DESCRIPTION:2025年11月20日(木)\n遊吟YOSSYxYOSSY BBQと生歌。\n入場15:30～ ¥8\,000(D代別)\n【会場】 afu\n【入場】 1. 予約(整列順)\n【一括予約】即時\nyugin.live@gmail.com\n振込先を返信致しますので、期間内にお支払いください。
URL:https://yossyxyossy.com/event/bbq%e3%82%a4%e3%83%99%e3%83%b3%e3%83%88%ef%bc%88%e5%a4%a7%e9%98%aa%ef%bc%89/
ATTACH;FMTTYPE=image/jpeg:https://yossyxyossy.com/wp-content/uploads/2025/08/G1h_N1hboAAa_Oo.jpg
END:VEVENT
END:VCALENDAR