BEGIN:VCALENDAR
VERSION:2.0
PRODID:-//YOSSYxYOSSY OFFICIAL SITE - ECPv6.2.4//NONSGML v1.0//EN
CALSCALE:GREGORIAN
METHOD:PUBLISH
X-WR-CALNAME:YOSSYxYOSSY OFFICIAL SITE
X-ORIGINAL-URL:https://yossyxyossy.com
X-WR-CALDESC:YOSSYxYOSSY OFFICIAL SITE のイベント
REFRESH-INTERVAL;VALUE=DURATION:PT1H
X-Robots-Tag:noindex
X-PUBLISHED-TTL:PT1H
BEGIN:VTIMEZONE
TZID:Asia/Tokyo
BEGIN:STANDARD
TZOFFSETFROM:+0900
TZOFFSETTO:+0900
TZNAME:JST
DTSTART:20250101T000000
END:STANDARD
END:VTIMEZONE
BEGIN:VEVENT
DTSTART;VALUE=DATE:20251114
DTEND;VALUE=DATE:20251115
DTSTAMP:20260422T192953
CREATED:20251029T103746Z
LAST-MODIFIED:20251029T103746Z
UID:1639-1763078400-1763164799@yossyxyossy.com
SUMMARY:旋律物語 〜東京編〜
DESCRIPTION:GIVE HEARTS 13周年祝\n「旋律物語 〜東京編〜」(配信チケット)\n\n日　時：2025年11月14日(金)\n時　間：19:00開演\n会　場：国分寺GiveHearts ( https://www.give-hearts.co.jp )\n\n料　金：\n配信チケット 3\,000円 ※料金とは別にシステム利用料がかかります。\nhttps://premier.twitcasting.tv/givehearts2017/shopcart/402737\n\n出　演：山口大貴 / YOSSYxYOSSY / 森下邦太\n\n配信プラットフォーム：ツイキャスプレミア\nアカウント：@GiveHearts2017\n\n視聴期間：2週間\n※リアルタイムでのプレミア配信を見逃したという方も、\n　ご購入いただくと、視聴期間内であれば何度でもご視聴いただけます。\n\n［注意事項］\n・動画音声の無断転載をお断りします。\n\n購入時の注意事項：\n・ご購入の際、別途システム利用料がかかります。\n・「購入を確定してお支払いへ」の画面に進んでから45分以内に「購入完了」\n　または「購入予約完了」の画面まで進まないと、購入はキャンセルされます。\n　「購入完了」または「購入予約完了」後はキャンセルはできません。\n・キャスマーケットの仕様上、ご購入後のキャンセルまたは変更はできません。\n　ご了承いただいた上でのご購入をお願いいたします。\n・コンビニ払い、Pay-easyで決済を選択される場合、前日までのお支払いを\n　お願い致します。当日ですと視聴が出来ませんのでご注意ください。\n\n他注意事項：\n・ネット環境によってスマートフォンの方は画質制限をされますので事前に\n　環境の良い場所にてご視聴お願い致します。\n・お探しの問題が解決できない場合、サポートまでお問い合わせください。\nhttps://twitcasting.tv/helpcenter.php
URL:https://yossyxyossy.com/event/%e6%97%8b%e5%be%8b%e7%89%a9%e8%aa%9e-%e3%80%9c%e6%9d%b1%e4%ba%ac%e7%b7%a8%e3%80%9c/
ATTACH;FMTTYPE=image/jpeg:https://yossyxyossy.com/wp-content/uploads/2025/10/旋律物語　東京.jpg
END:VEVENT
END:VCALENDAR