BEGIN:VCALENDAR
VERSION:2.0
PRODID:-//YOSSYxYOSSY OFFICIAL SITE - ECPv6.2.4//NONSGML v1.0//EN
CALSCALE:GREGORIAN
METHOD:PUBLISH
X-WR-CALNAME:YOSSYxYOSSY OFFICIAL SITE
X-ORIGINAL-URL:https://yossyxyossy.com
X-WR-CALDESC:YOSSYxYOSSY OFFICIAL SITE のイベント
REFRESH-INTERVAL;VALUE=DURATION:PT1H
X-Robots-Tag:noindex
X-PUBLISHED-TTL:PT1H
BEGIN:VTIMEZONE
TZID:Asia/Tokyo
BEGIN:STANDARD
TZOFFSETFROM:+0900
TZOFFSETTO:+0900
TZNAME:JST
DTSTART:20250101T000000
END:STANDARD
END:VTIMEZONE
BEGIN:VEVENT
DTSTART;VALUE=DATE:20251109
DTEND;VALUE=DATE:20251110
DTSTAMP:20260422T193050
CREATED:20251029T073121Z
LAST-MODIFIED:20251029T073121Z
UID:1622-1762646400-1762732799@yossyxyossy.com
SUMMARY:Port Town Music
DESCRIPTION:[タイトル]Port Town Music\n[日程] 2025年11月9日(日)\n[時間/出演者]\n12:00 優花\n12:35 Peco\n13:10 山口大貴\n13:45 YOSSY×YOSSY\n14:20 片山遼\n14:55 大北哲央\n※本番各25分\n※転換10分\n※雨天時決行(荒天時中止もありうる・当日判断) \n[リハ]直前リハ\n<場所>\n[会場]CULMENI 1F広場\n[住所]〒650-0044 兵庫県神戸市中央区東川崎町１丁目５−７
URL:https://yossyxyossy.com/event/port-town-music/
END:VEVENT
BEGIN:VEVENT
DTSTART;VALUE=DATE:20251109
DTEND;VALUE=DATE:20251110
DTSTAMP:20260422T193050
CREATED:20251029T074257Z
LAST-MODIFIED:20251029T074257Z
UID:1627-1762646400-1762732799@yossyxyossy.com
SUMMARY:Voice fromCASHBOX vol.217
DESCRIPTION:11月9日(日) \n「Voice fromCASHBOX vol.217」\nCASHBOX \n片山遼/YOSSY×YOSSY/山口大貴/大北哲央/TAROO fromキャラメルパッキング \nOP18:10/ST18:30\n3\,500円(1D代別) \n予約受付中\nhttps://tiget.net/events/428835 \n※当日整列順入場\n開場10分前にお呼びします\nそれまではお並び頂けません
URL:https://yossyxyossy.com/event/voice-fromcashbox-vol-217/
ATTACH;FMTTYPE=image/jpeg:https://yossyxyossy.com/wp-content/uploads/2025/10/G0hhtwEboAAhphg.jpg
END:VEVENT
END:VCALENDAR