BEGIN:VCALENDAR
VERSION:2.0
PRODID:-//YOSSYxYOSSY OFFICIAL SITE - ECPv6.2.4//NONSGML v1.0//EN
CALSCALE:GREGORIAN
METHOD:PUBLISH
X-WR-CALNAME:YOSSYxYOSSY OFFICIAL SITE
X-ORIGINAL-URL:https://yossyxyossy.com
X-WR-CALDESC:YOSSYxYOSSY OFFICIAL SITE のイベント
REFRESH-INTERVAL;VALUE=DURATION:PT1H
X-Robots-Tag:noindex
X-PUBLISHED-TTL:PT1H
BEGIN:VTIMEZONE
TZID:Asia/Tokyo
BEGIN:STANDARD
TZOFFSETFROM:+0900
TZOFFSETTO:+0900
TZNAME:JST
DTSTART:20250101T000000
END:STANDARD
END:VTIMEZONE
BEGIN:VEVENT
DTSTART;VALUE=DATE:20251108
DTEND;VALUE=DATE:20251109
DTSTAMP:20260422T192942
CREATED:20251029T074048Z
LAST-MODIFIED:20251029T074048Z
UID:1624-1762560000-1762646399@yossyxyossy.com
SUMMARY:Go!Upstairs! vol.108
DESCRIPTION:11月8日(土)\n「Go!Upstairs! vol.108」\nArtGarage C-Lump&UP\n片山遼/YOSSY×YOSSY/ORANGEHOUSE\n12:00/12:20 3\,500円(1D代別) \n予約受付中\nhttps://tiget.net/events/428834\n※当日整列順入場 \n開場10分前にお呼びします\nそれまではお並び頂けません
URL:https://yossyxyossy.com/event/goupstairs-vol-108/
ATTACH;FMTTYPE=image/jpeg:https://yossyxyossy.com/wp-content/uploads/2025/10/G0hhjj2aMAQ98ha-1.jpg
END:VEVENT
END:VCALENDAR