BEGIN:VCALENDAR
VERSION:2.0
PRODID:-//YOSSYxYOSSY OFFICIAL SITE - ECPv6.2.4//NONSGML v1.0//EN
CALSCALE:GREGORIAN
METHOD:PUBLISH
X-WR-CALNAME:YOSSYxYOSSY OFFICIAL SITE
X-ORIGINAL-URL:https://yossyxyossy.com
X-WR-CALDESC:YOSSYxYOSSY OFFICIAL SITE のイベント
REFRESH-INTERVAL;VALUE=DURATION:PT1H
X-Robots-Tag:noindex
X-PUBLISHED-TTL:PT1H
BEGIN:VTIMEZONE
TZID:Asia/Tokyo
BEGIN:STANDARD
TZOFFSETFROM:+0900
TZOFFSETTO:+0900
TZNAME:JST
DTSTART:20250101T000000
END:STANDARD
END:VTIMEZONE
BEGIN:VEVENT
DTSTART;VALUE=DATE:20251101
DTEND;VALUE=DATE:20251104
DTSTAMP:20260422T211335
CREATED:20251003T133634Z
LAST-MODIFIED:20251003T133634Z
UID:1611-1761955200-1762214399@yossyxyossy.com
SUMMARY:仙台
DESCRIPTION:詳細をお待ちください
URL:https://yossyxyossy.com/event/%e4%bb%99%e5%8f%b0-2/
END:VEVENT
BEGIN:VEVENT
DTSTART;VALUE=DATE:20251103
DTEND;VALUE=DATE:20251104
DTSTAMP:20260422T211335
CREATED:20251029T103112Z
LAST-MODIFIED:20251029T103112Z
UID:1630-1762128000-1762214399@yossyxyossy.com
SUMMARY:秋の岩沼・名取音楽まつり 2025
DESCRIPTION:「秋の岩沼・名取音楽まつり 2025｣\n\n日にち：11月3日(月祝)\n\n会　場：㐧三倉庫 el camino\n　　　　名取市植松新橋1-1\n　　　　https://d3-elcamino.com/\n\n時　間：開場11:00 開演11:30\n\n◎観覧無料\n(要飲食オーダー)\n\n＜出　演＞\n伊東洋平\n大橋タカシ\nYOSSYxYOSSY\nS♪maliz\nDakara’n’Dakara\nSweet Little Soul TS\nMS.Driver\nMisato\nキュウマルゴ\nmonmon\n渡邉華奈\n紅音朱里\nカレイドスコープ\n\n\n【主催】伊東洋平事務局\n【共催】㐧三倉庫 el camino\n【お問合せ】伊東洋平事務局yoheiito.info@gmail.com
URL:https://yossyxyossy.com/event/%e7%a7%8b%e3%81%ae%e5%b2%a9%e6%b2%bc%e3%83%bb%e5%90%8d%e5%8f%96%e9%9f%b3%e6%a5%bd%e3%81%be%e3%81%a4%e3%82%8a-2025/
ATTACH;FMTTYPE=image/png:https://yossyxyossy.com/wp-content/uploads/2025/10/1103dai3souko.png
END:VEVENT
END:VCALENDAR