BEGIN:VCALENDAR
VERSION:2.0
PRODID:-//YOSSYxYOSSY OFFICIAL SITE - ECPv6.2.4//NONSGML v1.0//EN
CALSCALE:GREGORIAN
METHOD:PUBLISH
X-WR-CALNAME:YOSSYxYOSSY OFFICIAL SITE
X-ORIGINAL-URL:https://yossyxyossy.com
X-WR-CALDESC:YOSSYxYOSSY OFFICIAL SITE のイベント
REFRESH-INTERVAL;VALUE=DURATION:PT1H
X-Robots-Tag:noindex
X-PUBLISHED-TTL:PT1H
BEGIN:VTIMEZONE
TZID:Asia/Tokyo
BEGIN:STANDARD
TZOFFSETFROM:+0900
TZOFFSETTO:+0900
TZNAME:JST
DTSTART:20250101T000000
END:STANDARD
END:VTIMEZONE
BEGIN:VEVENT
DTSTART;VALUE=DATE:20251019
DTEND;VALUE=DATE:20251020
DTSTAMP:20260422T211304
CREATED:20250717T040352Z
LAST-MODIFIED:20251013T120744Z
UID:1542-1760832000-1760918399@yossyxyossy.com
SUMMARY:Feel The Maton LIVE!!2025
DESCRIPTION:メイトン愛用のシンガー･ソングライター&ギタリストが一堂に集結！さまざまなスタイルで活躍するアーティストをサポートする、オーストラリア発の老舗ギター･ブランド”メイトンギターズ”の公式ライブイベント！ \n『Feel The Maton LIVE!!2025』\n会場 ：神戸･チキンジョージ\n日時 ：2025年10月19日(日) open12:00/start12:30\nチケット：￥5\,000(税込) *御入場時に別途ドリンク代(600円)が必要です。 \n🔶チケット受付\n→https://tiget.net/events/405088\n※このイベントはTIGETからのご予約のみです。(*各アーティストの手売りはありません)\n※お目当てのアーティストを選択してご予約お願い致します。 \n*9/29追記\n進行MC：藤本幸利 \n＜入場順について＞\nご入場は整理番号順です。\nA001→B001～J001\nA002→B002～J002 \n*7/22追記\n・複数枚を同時お申込頂いた場合でも、整理番号順のご入場です。 \n※同時入場をご希望の場合\nお持ちの整理番号の最後の番号でご入場になります。\n（例:申込整理番号A001～A004をお持ちの場合→ 004の順番で同時入場可） \n各アーティストへの公平性を期す為の施策ですのでご了承ください。
URL:https://yossyxyossy.com/event/%e7%a5%9e%e6%88%b8-8/
ATTACH;FMTTYPE=image/jpeg:https://yossyxyossy.com/wp-content/uploads/2025/07/写真-2025-10-13-21-07-26.jpg
END:VEVENT
END:VCALENDAR