BEGIN:VCALENDAR
VERSION:2.0
PRODID:-//YOSSYxYOSSY OFFICIAL SITE - ECPv6.2.4//NONSGML v1.0//EN
CALSCALE:GREGORIAN
METHOD:PUBLISH
X-WR-CALNAME:YOSSYxYOSSY OFFICIAL SITE
X-ORIGINAL-URL:https://yossyxyossy.com
X-WR-CALDESC:YOSSYxYOSSY OFFICIAL SITE のイベント
REFRESH-INTERVAL;VALUE=DURATION:PT1H
X-Robots-Tag:noindex
X-PUBLISHED-TTL:PT1H
BEGIN:VTIMEZONE
TZID:Asia/Tokyo
BEGIN:STANDARD
TZOFFSETFROM:+0900
TZOFFSETTO:+0900
TZNAME:JST
DTSTART:20250101T000000
END:STANDARD
END:VTIMEZONE
BEGIN:VEVENT
DTSTART;VALUE=DATE:20250928
DTEND;VALUE=DATE:20250929
DTSTAMP:20260422T225020
CREATED:20250717T034053Z
LAST-MODIFIED:20250717T034326Z
UID:1531-1759017600-1759103999@yossyxyossy.com
SUMMARY:Voice fromCASHBOX vol.214
DESCRIPTION:[日程]2025年9月28日(日) \n[タイトル]「Voice fromCASHBOX vol.214」 ＊有観客&配信ライブ \n[会場]CASHBOX \n[出演]上地賢人/名迫僚太/YOSSY×YOSSY/PONGEE \n[開場/開演]18:30/19:00（配信19:00～） \n[有観客予約方法]各アーティストにて  \n🔶予約受付中 \nhttps://tiget.net/events/416217 \n[入場方法] 当日並んだ順の入場になります！  \n＊当日開場10分前にスタッフがお呼びいたします！           \n(スタッフがお呼びするまでは近隣のご迷惑になりますのでお並び頂けませんのでご注意ください。) \n \n[配信購入ページ] \nhttps://twitcasting.tv/cashbox_kobe/shopcart/386168 \n＊必ず御指名のアーティスト名を記入してください  \n[料金]有観客 3\,500円(1Drink別途600円・自由席)/配信 3\,000円(システム手数料160円
URL:https://yossyxyossy.com/event/voice-fromcashbox-vol-214/
ATTACH;FMTTYPE=image/jpeg:https://yossyxyossy.com/wp-content/uploads/2025/07/写真-2025-07-17-12-43-01.jpg
END:VEVENT
END:VCALENDAR