BEGIN:VCALENDAR
VERSION:2.0
PRODID:-//YOSSYxYOSSY OFFICIAL SITE - ECPv6.2.4//NONSGML v1.0//EN
CALSCALE:GREGORIAN
METHOD:PUBLISH
X-WR-CALNAME:YOSSYxYOSSY OFFICIAL SITE
X-ORIGINAL-URL:https://yossyxyossy.com
X-WR-CALDESC:YOSSYxYOSSY OFFICIAL SITE のイベント
REFRESH-INTERVAL;VALUE=DURATION:PT1H
X-Robots-Tag:noindex
X-PUBLISHED-TTL:PT1H
BEGIN:VTIMEZONE
TZID:Asia/Tokyo
BEGIN:STANDARD
TZOFFSETFROM:+0900
TZOFFSETTO:+0900
TZNAME:JST
DTSTART:20250101T000000
END:STANDARD
END:VTIMEZONE
BEGIN:VEVENT
DTSTART;VALUE=DATE:20250927
DTEND;VALUE=DATE:20250928
DTSTAMP:20260422T225101
CREATED:20250307T122357Z
LAST-MODIFIED:20250307T122357Z
UID:1183-1758931200-1759017599@yossyxyossy.com
SUMMARY:EGG TOUR 2025 IN大阪
DESCRIPTION:2025年9月27日(土)\n【タイトル】\nEGG TOUR 2025 IN大阪\n【時間】\nOPEN11:30/START12:00\n【料金】\n前売4\,000円/当日¥4\,500 (＋1DRINK 別途600円)\n【出演】\nうたまろ/植田健一/大橋タカシ/shinji/TOMOKI/Vermilion  Ens/YOSSYxYOSSY/H.M.C/\n【会場】\nSoap opera classics-Umeda-\n【入場順】\n1. 予約(整列順)\n2.当日\n＊オープン15分前までの整列はご遠慮下さい。15分前に整列している場合スタッフから声を掛けさせて頂くこともありますのでご協力よろしくお願い致します。\n【予約】\nhttps://tiget.net/events/381956\n⚠️こちらの公演は整列順です！\n＊チケット予約開始2025年4月1日20:00〜
URL:https://yossyxyossy.com/event/egg-tour-2025-in%e5%a4%a7%e9%98%aa/
ATTACH;FMTTYPE=image/jpeg:https://yossyxyossy.com/wp-content/uploads/2025/03/写真-2025-03-07-20-21-16-4.jpg
END:VEVENT
END:VCALENDAR