BEGIN:VCALENDAR
VERSION:2.0
PRODID:-//YOSSYxYOSSY OFFICIAL SITE - ECPv6.2.4//NONSGML v1.0//EN
CALSCALE:GREGORIAN
METHOD:PUBLISH
X-ORIGINAL-URL:https://yossyxyossy.com
X-WR-CALDESC:YOSSYxYOSSY OFFICIAL SITE のイベント
REFRESH-INTERVAL;VALUE=DURATION:PT1H
X-Robots-Tag:noindex
X-PUBLISHED-TTL:PT1H
BEGIN:VTIMEZONE
TZID:Asia/Tokyo
BEGIN:STANDARD
TZOFFSETFROM:+0900
TZOFFSETTO:+0900
TZNAME:JST
DTSTART:20250101T000000
END:STANDARD
END:VTIMEZONE
BEGIN:VEVENT
DTSTART;VALUE=DATE:20250921
DTEND;VALUE=DATE:20250922
DTSTAMP:20260422T225702
CREATED:20250717T033039Z
LAST-MODIFIED:20250717T033132Z
UID:1527-1758412800-1758499199@yossyxyossy.com
SUMMARY:土江野家×吉田野家合同企画〜ハヤシライスしっかり食べてしっかり歌を聴いて〜
DESCRIPTION:■2025年9月21日(日)\n【タイトル】\n土江野家×吉田野家合同企画〜ハヤシライスしっかり食べてしっかり歌を聴いて〜\n【時間】\nOPEN14:00\n※来た方から食事を受け取って下さい♪\n【料金】\n前売¥7\,000食事付き(ドリンク代別)\n※各自ご自宅で愛用のお皿とスプーンをご持参ください。アレルギー等ある方は事前にご連絡ください。\n【出演者】\nYOSSYxYOSSY/遊吟\n【会場】\nひまわりスター\n東京都練馬区桜台4-32-1 B1\n【入場順】\n1. アーティスト予約(番号並列順)\n2.当日券(有無は問い合わせください)\n＊オープン15分前までの整列はご遠慮下さい。15分前に整列している場合スタッフから声を掛けさせて頂くこともありますのでご協力よろしくお願い致します。\n【予約】\nhttps://tiget.net/events/411816
URL:https://yossyxyossy.com/event/%e5%9c%9f%e6%b1%9f%e9%87%8e%e5%ae%b6x%e5%90%89%e7%94%b0%e9%87%8e%e5%ae%b6%e5%90%88%e5%90%8c%e4%bc%81%e7%94%bb%e3%80%9c%e3%83%8f%e3%83%a4%e3%82%b7%e3%83%a9%e3%82%a4%e3%82%b9%e3%81%97%e3%81%a3/
ATTACH;FMTTYPE=image/jpeg:https://yossyxyossy.com/wp-content/uploads/2025/06/写真-2025-07-17-12-22-45.jpg
END:VEVENT
END:VCALENDAR