BEGIN:VCALENDAR
VERSION:2.0
PRODID:-//YOSSYxYOSSY OFFICIAL SITE - ECPv6.2.4//NONSGML v1.0//EN
CALSCALE:GREGORIAN
METHOD:PUBLISH
X-WR-CALNAME:YOSSYxYOSSY OFFICIAL SITE
X-ORIGINAL-URL:https://yossyxyossy.com
X-WR-CALDESC:YOSSYxYOSSY OFFICIAL SITE のイベント
REFRESH-INTERVAL;VALUE=DURATION:PT1H
X-Robots-Tag:noindex
X-PUBLISHED-TTL:PT1H
BEGIN:VTIMEZONE
TZID:Asia/Tokyo
BEGIN:STANDARD
TZOFFSETFROM:+0900
TZOFFSETTO:+0900
TZNAME:JST
DTSTART:20250101T000000
END:STANDARD
END:VTIMEZONE
BEGIN:VEVENT
DTSTART;VALUE=DATE:20250915
DTEND;VALUE=DATE:20250916
DTSTAMP:20260422T225229
CREATED:20250717T031956Z
LAST-MODIFIED:20250828T064624Z
UID:1517-1757894400-1757980799@yossyxyossy.com
SUMMARY:月光歌-Moonlight- vol.11
DESCRIPTION:2025年9月15日(月祝)\n山口大貴 × YOSSY 2MAN Live\n「月光歌-Moonlight- vol.11」\n会場：Ageha Base\n兵庫県神戸市中央区下山手通2丁目1−4 地下1F KWビル\n出演：山口大貴 / YOSSY x YOSSY\n開場18:00 開演18:30\n前売¥3\,500 当日¥4\,000(2order別)\n配信¥3\,000 \n▽来場電子チケット\nhttps://tiget.net/events/424505\n(一括予約)
URL:https://yossyxyossy.com/event/%e7%a5%9e%e6%88%b8-7/
ATTACH;FMTTYPE=image/jpeg:https://yossyxyossy.com/wp-content/uploads/2025/07/写真-2025-08-28-15-43-09-1.jpg
END:VEVENT
END:VCALENDAR