BEGIN:VCALENDAR
VERSION:2.0
PRODID:-//YOSSYxYOSSY OFFICIAL SITE - ECPv6.2.4//NONSGML v1.0//EN
CALSCALE:GREGORIAN
METHOD:PUBLISH
X-ORIGINAL-URL:https://yossyxyossy.com
X-WR-CALDESC:YOSSYxYOSSY OFFICIAL SITE のイベント
REFRESH-INTERVAL;VALUE=DURATION:PT1H
X-Robots-Tag:noindex
X-PUBLISHED-TTL:PT1H
BEGIN:VTIMEZONE
TZID:Asia/Tokyo
BEGIN:STANDARD
TZOFFSETFROM:+0900
TZOFFSETTO:+0900
TZNAME:JST
DTSTART:20250101T000000
END:STANDARD
END:VTIMEZONE
BEGIN:VEVENT
DTSTART;VALUE=DATE:20250914
DTEND;VALUE=DATE:20250915
DTSTAMP:20260422T225700
CREATED:20250828T064413Z
LAST-MODIFIED:20250828T064413Z
UID:1549-1757808000-1757894399@yossyxyossy.com
SUMMARY:神戸で吉田 Vol.1
DESCRIPTION:9月14日 弾き語りワンマン\n神戸で吉田 Vol.1 \n会場\nのわのわカフェ \nOPEN18:30 START18:50\n¥3500(別途1D代) \n予約はこちら\nhttps://tiget.net/events/424607 \n配信はこちら\nhttps://premier.twitcasting.tv/yossyxyossy/shopcart/392643
URL:https://yossyxyossy.com/event/%e7%a5%9e%e6%88%b8%e3%81%a7%e5%90%89%e7%94%b0-vol-1/
ATTACH;FMTTYPE=image/jpeg:https://yossyxyossy.com/wp-content/uploads/2025/08/写真-2025-08-28-15-43-09-2.jpg
END:VEVENT
END:VCALENDAR