BEGIN:VCALENDAR
VERSION:2.0
PRODID:-//YOSSYxYOSSY OFFICIAL SITE - ECPv6.2.4//NONSGML v1.0//EN
CALSCALE:GREGORIAN
METHOD:PUBLISH
X-WR-CALNAME:YOSSYxYOSSY OFFICIAL SITE
X-ORIGINAL-URL:https://yossyxyossy.com
X-WR-CALDESC:YOSSYxYOSSY OFFICIAL SITE のイベント
REFRESH-INTERVAL;VALUE=DURATION:PT1H
X-Robots-Tag:noindex
X-PUBLISHED-TTL:PT1H
BEGIN:VTIMEZONE
TZID:Asia/Tokyo
BEGIN:STANDARD
TZOFFSETFROM:+0900
TZOFFSETTO:+0900
TZNAME:JST
DTSTART:20250101T000000
END:STANDARD
END:VTIMEZONE
BEGIN:VEVENT
DTSTART;VALUE=DATE:20250831
DTEND;VALUE=DATE:20250901
DTSTAMP:20260423T010036
CREATED:20250606T172934Z
LAST-MODIFIED:20250717T030717Z
UID:1458-1756598400-1756684799@yossyxyossy.com
SUMMARY:おにいちゃんズ ゲスト：YOSSY×YOSSY
DESCRIPTION:阿部祐也×大野瞬\n「 おにいちゃんズ\nゲスト：YOSSY×YOSSY 」 \n２０２５年８月３１日（日）\nTokyo Gesthouse Oji music lounge\n開場 12:00 開演 12:45\n出演：阿部祐也 / 大野瞬 / YOSSY×YOSSY\n前売 ¥3\,500 当日 ¥4\,000（別途2オーダー制） \n🔶7/18(金)20:00よりイベント一括予約サイトにて受付\nhttps://tiget.net/events/415522\n入場：整理番号順
URL:https://yossyxyossy.com/event/%e6%9d%b1%e4%ba%ac/
ATTACH;FMTTYPE=image/jpeg:https://yossyxyossy.com/wp-content/uploads/2025/06/お兄ちゃんズ2508_昼_告知.jpg
END:VEVENT
END:VCALENDAR