BEGIN:VCALENDAR
VERSION:2.0
PRODID:-//YOSSYxYOSSY OFFICIAL SITE - ECPv6.2.4//NONSGML v1.0//EN
CALSCALE:GREGORIAN
METHOD:PUBLISH
X-ORIGINAL-URL:https://yossyxyossy.com
X-WR-CALDESC:YOSSYxYOSSY OFFICIAL SITE のイベント
REFRESH-INTERVAL;VALUE=DURATION:PT1H
X-Robots-Tag:noindex
X-PUBLISHED-TTL:PT1H
BEGIN:VTIMEZONE
TZID:Asia/Tokyo
BEGIN:STANDARD
TZOFFSETFROM:+0900
TZOFFSETTO:+0900
TZNAME:JST
DTSTART:20250101T000000
END:STANDARD
END:VTIMEZONE
BEGIN:VEVENT
DTSTART;VALUE=DATE:20250830
DTEND;VALUE=DATE:20250831
DTSTAMP:20260423T010439
CREATED:20250606T172909Z
LAST-MODIFIED:20250717T031019Z
UID:1456-1756512000-1756598399@yossyxyossy.com
SUMMARY:東京で吉田Vol.12
DESCRIPTION:8月30日(日) \n弾き語りワンマン\n東京で吉田vol.12 \nstudio With \nOPEN18:30\nSTART18:50\n¥3500 \n7月18日21時〜予約開始\nhttps://tiget.net/events/415871
URL:https://yossyxyossy.com/event/%e6%9d%b1%e4%ba%ac%e3%81%a7%e5%90%89%e7%94%b0vol-12%ef%bc%88%e5%a4%9c%e4%ba%88%e5%ae%9a%ef%bc%89/
ATTACH;FMTTYPE=image/jpeg:https://yossyxyossy.com/wp-content/uploads/2025/06/写真-2025-07-17-12-09-36.jpg
END:VEVENT
END:VCALENDAR