BEGIN:VCALENDAR
VERSION:2.0
PRODID:-//YOSSYxYOSSY OFFICIAL SITE - ECPv6.2.4//NONSGML v1.0//EN
CALSCALE:GREGORIAN
METHOD:PUBLISH
X-WR-CALNAME:YOSSYxYOSSY OFFICIAL SITE
X-ORIGINAL-URL:https://yossyxyossy.com
X-WR-CALDESC:YOSSYxYOSSY OFFICIAL SITE のイベント
REFRESH-INTERVAL;VALUE=DURATION:PT1H
X-Robots-Tag:noindex
X-PUBLISHED-TTL:PT1H
BEGIN:VTIMEZONE
TZID:Asia/Tokyo
BEGIN:STANDARD
TZOFFSETFROM:+0900
TZOFFSETTO:+0900
TZNAME:JST
DTSTART:20250101T000000
END:STANDARD
END:VTIMEZONE
BEGIN:VEVENT
DTSTART;VALUE=DATE:20250824
DTEND;VALUE=DATE:20250825
DTSTAMP:20260423T010036
CREATED:20250514T054305Z
LAST-MODIFIED:20250606T173826Z
UID:1417-1755993600-1756079999@yossyxyossy.com
SUMMARY:信政誠＆YOSSY×YOSSY　カフェ２マンライブ
DESCRIPTION:■8月24日(日)\n信政誠＆YOSSY×YOSSY　カフェ２マンライブ \n会場　神戸・のわのわカフェ 地下\n時間　開場17:00／開演17:30\n料金　￥3500（別途１オーダー制）\n出演　信政誠、YOSSY×YOSSY\n住所 兵庫県神戸市中央区加納町３丁目１２-１３ 浜川ビル１F \n予約はこちらから\nhttps://tiget.net/events/406947\n入場：整列順
URL:https://yossyxyossy.com/event/%e7%a5%9e%e6%88%b8-4/
END:VEVENT
END:VCALENDAR