BEGIN:VCALENDAR
VERSION:2.0
PRODID:-//YOSSYxYOSSY OFFICIAL SITE - ECPv6.2.4//NONSGML v1.0//EN
CALSCALE:GREGORIAN
METHOD:PUBLISH
X-WR-CALNAME:YOSSYxYOSSY OFFICIAL SITE
X-ORIGINAL-URL:https://yossyxyossy.com
X-WR-CALDESC:YOSSYxYOSSY OFFICIAL SITE のイベント
REFRESH-INTERVAL;VALUE=DURATION:PT1H
X-Robots-Tag:noindex
X-PUBLISHED-TTL:PT1H
BEGIN:VTIMEZONE
TZID:Asia/Tokyo
BEGIN:STANDARD
TZOFFSETFROM:+0900
TZOFFSETTO:+0900
TZNAME:JST
DTSTART:20250101T000000
END:STANDARD
END:VTIMEZONE
BEGIN:VEVENT
DTSTART;VALUE=DATE:20250823
DTEND;VALUE=DATE:20250824
DTSTAMP:20260423T010115
CREATED:20250717T030511Z
LAST-MODIFIED:20250717T030511Z
UID:1501-1755907200-1755993599@yossyxyossy.com
SUMMARY:桂南ミュージックフェス
DESCRIPTION:2025年8月23日(土)\n「桂南ミュージックフェス」\n出演：山口大貴 / YOSSYxYOSSY / REA / 北原ゆか / YAK.\n会場：ダイエー桂南店1F特設ステージ\n京都府京都市南区久世上久世町485\n料金：観覧無料 https://daiei.co.jp/stores/d0661/
URL:https://yossyxyossy.com/event/%e6%a1%82%e5%8d%97%e3%83%9f%e3%83%a5%e3%83%bc%e3%82%b8%e3%83%83%e3%82%af%e3%83%95%e3%82%a7%e3%82%b9/
ATTACH;FMTTYPE=image/jpeg:https://yossyxyossy.com/wp-content/uploads/2025/07/写真-2025-07-17-12-04-44.jpg
END:VEVENT
END:VCALENDAR