BEGIN:VCALENDAR
VERSION:2.0
PRODID:-//YOSSYxYOSSY OFFICIAL SITE - ECPv6.2.4//NONSGML v1.0//EN
CALSCALE:GREGORIAN
METHOD:PUBLISH
X-WR-CALNAME:YOSSYxYOSSY OFFICIAL SITE
X-ORIGINAL-URL:https://yossyxyossy.com
X-WR-CALDESC:YOSSYxYOSSY OFFICIAL SITE のイベント
REFRESH-INTERVAL;VALUE=DURATION:PT1H
X-Robots-Tag:noindex
X-PUBLISHED-TTL:PT1H
BEGIN:VTIMEZONE
TZID:Asia/Tokyo
BEGIN:STANDARD
TZOFFSETFROM:+0900
TZOFFSETTO:+0900
TZNAME:JST
DTSTART:20250101T000000
END:STANDARD
END:VTIMEZONE
BEGIN:VEVENT
DTSTART;VALUE=DATE:20250817
DTEND;VALUE=DATE:20250818
DTSTAMP:20260423T010010
CREATED:20250717T025618Z
LAST-MODIFIED:20250717T030044Z
UID:1498-1755388800-1755475199@yossyxyossy.com
SUMMARY:名古屋で吉田 vol.8
DESCRIPTION:8月17日\nLOCUS🎊4周年記念\n名古屋で吉田 vol.8 \n¥3\,500(1D代別) \n18:45開場\n19:15開演 \n予約はこちら\nhttps://tiget.net/events/414203
URL:https://yossyxyossy.com/event/%e5%90%8d%e5%8f%a4%e5%b1%8b%e3%81%a7%e5%90%89%e7%94%b0-vol-8/
ATTACH;FMTTYPE=image/jpeg:https://yossyxyossy.com/wp-content/uploads/2025/07/S__34856968.jpg
END:VEVENT
END:VCALENDAR