BEGIN:VCALENDAR
VERSION:2.0
PRODID:-//YOSSYxYOSSY OFFICIAL SITE - ECPv6.2.4//NONSGML v1.0//EN
CALSCALE:GREGORIAN
METHOD:PUBLISH
X-WR-CALNAME:YOSSYxYOSSY OFFICIAL SITE
X-ORIGINAL-URL:https://yossyxyossy.com
X-WR-CALDESC:YOSSYxYOSSY OFFICIAL SITE のイベント
REFRESH-INTERVAL;VALUE=DURATION:PT1H
X-Robots-Tag:noindex
X-PUBLISHED-TTL:PT1H
BEGIN:VTIMEZONE
TZID:Asia/Tokyo
BEGIN:STANDARD
TZOFFSETFROM:+0900
TZOFFSETTO:+0900
TZNAME:JST
DTSTART:20250101T000000
END:STANDARD
END:VTIMEZONE
BEGIN:VEVENT
DTSTART;VALUE=DATE:20250802
DTEND;VALUE=DATE:20250803
DTSTAMP:20260423T010010
CREATED:20250428T164950Z
LAST-MODIFIED:20250717T023922Z
UID:1282-1754092800-1754179199@yossyxyossy.com
SUMMARY:「Hi-switch」DAY2
DESCRIPTION:8月2日(土)\nHigh-G 20th anniversary\n「Hi-switch」DAY2\nLivehouse Arc\n前売¥3500別途1D代\n入場順 ①ローチケ ②アーティスト予約 ③当日 \nローチケ\n※6/28 10時〜チケット発売\nhttps://l-tike.com/order/?gLcode=51593&gPfKey=20250623000001987269&gEntryMthd=01&gScheduleNo=1&gCarrierCd=01&gPfName=%EF%BC%A8%EF%BD%89%EF%BD%87%EF%BD%88%EF%BC%8D%EF%BC%A7&gBaseVenueCd=50350 \n※アーティスト予約受付中\nhttps://tiget.net/events/410640
URL:https://yossyxyossy.com/event/%e5%a4%a7%e9%98%aa-2/
ATTACH;FMTTYPE=image/jpeg:https://yossyxyossy.com/wp-content/uploads/2025/04/b5e09a11-0391-4d74-bfe0-b71fae496721.jpg
END:VEVENT
END:VCALENDAR