BEGIN:VCALENDAR
VERSION:2.0
PRODID:-//YOSSYxYOSSY OFFICIAL SITE - ECPv6.2.4//NONSGML v1.0//EN
CALSCALE:GREGORIAN
METHOD:PUBLISH
X-ORIGINAL-URL:https://yossyxyossy.com
X-WR-CALDESC:YOSSYxYOSSY OFFICIAL SITE のイベント
REFRESH-INTERVAL;VALUE=DURATION:PT1H
X-Robots-Tag:noindex
X-PUBLISHED-TTL:PT1H
BEGIN:VTIMEZONE
TZID:Asia/Tokyo
BEGIN:STANDARD
TZOFFSETFROM:+0900
TZOFFSETTO:+0900
TZNAME:JST
DTSTART:20250101T000000
END:STANDARD
END:VTIMEZONE
BEGIN:VEVENT
DTSTART;VALUE=DATE:20250726
DTEND;VALUE=DATE:20250727
DTSTAMP:20260423T025950
CREATED:20250514T053950Z
LAST-MODIFIED:20250717T023211Z
UID:1400-1753488000-1753574399@yossyxyossy.com
SUMMARY:HMR Collection LIVE in 神奈川
DESCRIPTION:2025年7月26日(土)\n「HMR Collection LIVE in 神奈川」\n出演：山口大貴 / ナイトスターリリー / YOSSYxYOSSY / Odd3Piece\n会場：OSC湘南 シティ オープンモールステージ\n神奈川県平塚市代官町33-1\n時間：❶13:00〜 ❷15:00〜\n料金：観覧無料\nhttps://shonan-city.com/
URL:https://yossyxyossy.com/event/%e9%96%a2%e6%9d%b1%e3%83%95%e3%83%aa%e3%83%bc%e3%83%a9%e3%82%a4%e3%83%96/
ATTACH;FMTTYPE=image/jpeg:https://yossyxyossy.com/wp-content/uploads/2025/05/写真-2025-07-17-11-29-50.jpg
END:VEVENT
END:VCALENDAR