BEGIN:VCALENDAR
VERSION:2.0
PRODID:-//YOSSYxYOSSY OFFICIAL SITE - ECPv6.2.4//NONSGML v1.0//EN
CALSCALE:GREGORIAN
METHOD:PUBLISH
X-ORIGINAL-URL:https://yossyxyossy.com
X-WR-CALDESC:YOSSYxYOSSY OFFICIAL SITE のイベント
REFRESH-INTERVAL;VALUE=DURATION:PT1H
X-Robots-Tag:noindex
X-PUBLISHED-TTL:PT1H
BEGIN:VTIMEZONE
TZID:Asia/Tokyo
BEGIN:STANDARD
TZOFFSETFROM:+0900
TZOFFSETTO:+0900
TZNAME:JST
DTSTART:20250101T000000
END:STANDARD
END:VTIMEZONE
BEGIN:VEVENT
DTSTART;VALUE=DATE:20250725
DTEND;VALUE=DATE:20250726
DTSTAMP:20260423T025951
CREATED:20250428T163600Z
LAST-MODIFIED:20250514T054118Z
UID:1265-1753401600-1753487999@yossyxyossy.com
SUMMARY:最高喜音
DESCRIPTION:YUMU FES 2025 × 山口大貴 Presents\n「最高喜音」\nAct：山口大貴／YOSSYxYOSSY／オオモリヨウヘイ／大北哲央\nOpen 18:30　Start 19:00\nAdv ¥3\,400　Door ¥3\,900（+1D ¥600）\n配信Ticket ¥3\,400 \n★YUMU FES「最高喜音」限定！\nスペシャルカクテル”最高喜音”販売🍷\n🔥アルコール ¥800\n🔥ノンアルコール ¥700 \n予約\nhttps://tiget.net/events/391929 \n▼入場：整理番号順 ①TIGET予約（T1~） ②当日券 \n▼出演者へのプレゼント（ドリンクチケット等）をご希望の方はこちら\nhttps://x.gd/CrSIA\n※お目当てのアーティスト様に直接お渡しします。 \n🎥配信チケットはこちら\nhttps://twitcasting.tv/c:melodiatokyo/shopcart/368703
URL:https://yossyxyossy.com/event/%e6%9c%80%e9%ab%98%e5%96%9c%e9%9f%b3/
ATTACH;FMTTYPE=image/jpeg:https://yossyxyossy.com/wp-content/uploads/2025/04/写真-2025-04-29-1-19-31-3.jpg
END:VEVENT
END:VCALENDAR