BEGIN:VCALENDAR
VERSION:2.0
PRODID:-//YOSSYxYOSSY OFFICIAL SITE - ECPv6.2.4//NONSGML v1.0//EN
CALSCALE:GREGORIAN
METHOD:PUBLISH
X-WR-CALNAME:YOSSYxYOSSY OFFICIAL SITE
X-ORIGINAL-URL:https://yossyxyossy.com
X-WR-CALDESC:YOSSYxYOSSY OFFICIAL SITE のイベント
REFRESH-INTERVAL;VALUE=DURATION:PT1H
X-Robots-Tag:noindex
X-PUBLISHED-TTL:PT1H
BEGIN:VTIMEZONE
TZID:Asia/Tokyo
BEGIN:STANDARD
TZOFFSETFROM:+0900
TZOFFSETTO:+0900
TZNAME:JST
DTSTART:20250101T000000
END:STANDARD
END:VTIMEZONE
BEGIN:VEVENT
DTSTART;VALUE=DATE:20250713
DTEND;VALUE=DATE:20250714
DTSTAMP:20260423T025536
CREATED:20250514T053903Z
LAST-MODIFIED:20250606T174617Z
UID:1385-1752364800-1752451199@yossyxyossy.com
SUMMARY:U can do it!! ~respect for life~
DESCRIPTION:■日程：2025年7月13日(日)\n■会場：Remember U\n■公演名：U can do it!! ~respect for life~\n■時間：開場 16:30 開演17:00\n■料金：前売3\,500円 当日 4\,000円(+1drink別500円)\n■出演：山口大貴 / YOSSYxYOSSY / 大橋タカシ / Uken \n[入場方法] 当日並んだ順の入場\n＊当日開場10分前にスタッフがお呼びした時間より並んだ方順の入場となります！\n(スタッフがお呼びするまでは近隣のご迷惑になりますのでお並び頂けませんのでご注意ください。)
URL:https://yossyxyossy.com/event/%e5%a7%ab%e8%b7%af/
ATTACH;FMTTYPE=image/jpeg:https://yossyxyossy.com/wp-content/uploads/2025/05/写真-2025-06-07-2-45-45.jpg
END:VEVENT
END:VCALENDAR