BEGIN:VCALENDAR
VERSION:2.0
PRODID:-//YOSSYxYOSSY OFFICIAL SITE - ECPv6.2.4//NONSGML v1.0//EN
CALSCALE:GREGORIAN
METHOD:PUBLISH
X-WR-CALNAME:YOSSYxYOSSY OFFICIAL SITE
X-ORIGINAL-URL:https://yossyxyossy.com
X-WR-CALDESC:YOSSYxYOSSY OFFICIAL SITE のイベント
REFRESH-INTERVAL;VALUE=DURATION:PT1H
X-Robots-Tag:noindex
X-PUBLISHED-TTL:PT1H
BEGIN:VTIMEZONE
TZID:Asia/Tokyo
BEGIN:STANDARD
TZOFFSETFROM:+0900
TZOFFSETTO:+0900
TZNAME:JST
DTSTART:20250101T000000
END:STANDARD
END:VTIMEZONE
BEGIN:VEVENT
DTSTART;VALUE=DATE:20250712
DTEND;VALUE=DATE:20250713
DTSTAMP:20260423T025525
CREATED:20250514T053814Z
LAST-MODIFIED:20250611T054419Z
UID:1345-1752278400-1752364799@yossyxyossy.com
SUMMARY:ダイエー桂南店　フリーライブ
DESCRIPTION:■7月12日 ダイエー桂南店
URL:https://yossyxyossy.com/event/%e3%83%80%e3%82%a4%e3%82%a8%e3%83%bc%e6%a1%82%e5%8d%97%e5%ba%97%e3%80%80%e3%83%95%e3%83%aa%e3%83%bc%e3%83%a9%e3%82%a4%e3%83%96/
ATTACH;FMTTYPE=image/jpeg:https://yossyxyossy.com/wp-content/uploads/2025/05/写真-2025-06-11-14-09-23.jpg
END:VEVENT
END:VCALENDAR