BEGIN:VCALENDAR
VERSION:2.0
PRODID:-//YOSSYxYOSSY OFFICIAL SITE - ECPv6.2.4//NONSGML v1.0//EN
CALSCALE:GREGORIAN
METHOD:PUBLISH
X-ORIGINAL-URL:https://yossyxyossy.com
X-WR-CALDESC:YOSSYxYOSSY OFFICIAL SITE のイベント
REFRESH-INTERVAL;VALUE=DURATION:PT1H
X-Robots-Tag:noindex
X-PUBLISHED-TTL:PT1H
BEGIN:VTIMEZONE
TZID:Asia/Tokyo
BEGIN:STANDARD
TZOFFSETFROM:+0900
TZOFFSETTO:+0900
TZNAME:JST
DTSTART:20250101T000000
END:STANDARD
END:VTIMEZONE
BEGIN:VEVENT
DTSTART;VALUE=DATE:20250622
DTEND;VALUE=DATE:20250623
DTSTAMP:20260423T044509
CREATED:20250428T164811Z
LAST-MODIFIED:20250514T053518Z
UID:1276-1750550400-1750636799@yossyxyossy.com
SUMMARY:Go!Upstairs! vol.84
DESCRIPTION:[日程]2025年6月22日(日)\n[タイトル]「Go!Upstairs! vol.84」 ＊有観客&配信ライブ\n[会場]ArtGarage C-Lump&UP(クランプアップ)\n[出演] YOSSY×YOSSY/ 山口大貴/Uken/若宮大起/BALI-OS\n[開場/開演] 17:00/17:20（配信17:20～）\n[有観客予約方法]各アーティストにて \n[料金]有観客 3\,000円(1Drink別・自由席)/配信 3\,000円(システム手数料160円）\n[席]自由席\n[受付方法]https://tiget.net/events/399418\n[入場方法]当日並んだ順の入場になります！\n＊当日開場10分前にスタッフがお呼びした時間より並んだ方順の入場となります！\n(スタッフがお呼びするまでは近隣のご迷惑になりますのでお並び頂けませんのでご注意ください。) \n[配信購入ページ]\nhttps://twitcasting.tv/c:bank_c_project/shopcart/373803\n＊必ず御指名のアーティスト名を記入してください
URL:https://yossyxyossy.com/event/%e7%a5%9e%e6%88%b8-2/
ATTACH;FMTTYPE=image/jpeg:https://yossyxyossy.com/wp-content/uploads/2025/04/写真-2025-05-14-14-19-56-1.jpg
END:VEVENT
BEGIN:VEVENT
DTSTART;VALUE=DATE:20250622
DTEND;VALUE=DATE:20250623
DTSTAMP:20260423T044509
CREATED:20250606T172437Z
LAST-MODIFIED:20250606T172437Z
UID:1448-1750550400-1750636799@yossyxyossy.com
SUMMARY:Voice from CASHBOX at 三宮プラッツ
DESCRIPTION:Voice from CASHBOX at 三宮プラッツ \n[会場]三宮プラッツ\n[住所]兵庫県神戸市中央区三宮町1丁目1 \n[日程] 2025年6月22日(日)\n[時間/出演者]\n12:00 BALI-OS\n12:35 山口大貴\n13:10 YOSSY×YOSSY\n13:45 Uken\n14:20 若宮大起\n14:55 ORANGEHOUSE\n15:30 Peco\n※本番25分\n※転換10分\n※雨天決行
URL:https://yossyxyossy.com/event/voice-from-cashbox-at-%e4%b8%89%e5%ae%ae%e3%83%97%e3%83%a9%e3%83%83%e3%83%84/
ATTACH;FMTTYPE=image/jpeg:https://yossyxyossy.com/wp-content/uploads/2025/06/写真-2025-06-07-2-20-45.jpg
END:VEVENT
END:VCALENDAR