BEGIN:VCALENDAR
VERSION:2.0
PRODID:-//YOSSYxYOSSY OFFICIAL SITE - ECPv6.2.4//NONSGML v1.0//EN
CALSCALE:GREGORIAN
METHOD:PUBLISH
X-WR-CALNAME:YOSSYxYOSSY OFFICIAL SITE
X-ORIGINAL-URL:https://yossyxyossy.com
X-WR-CALDESC:YOSSYxYOSSY OFFICIAL SITE のイベント
REFRESH-INTERVAL;VALUE=DURATION:PT1H
X-Robots-Tag:noindex
X-PUBLISHED-TTL:PT1H
BEGIN:VTIMEZONE
TZID:Asia/Tokyo
BEGIN:STANDARD
TZOFFSETFROM:+0900
TZOFFSETTO:+0900
TZNAME:JST
DTSTART:20250101T000000
END:STANDARD
END:VTIMEZONE
BEGIN:VEVENT
DTSTART;VALUE=DATE:20250621
DTEND;VALUE=DATE:20250622
DTSTAMP:20260423T043807
CREATED:20250428T162102Z
LAST-MODIFIED:20250428T162102Z
UID:1248-1750464000-1750550399@yossyxyossy.com
SUMMARY:ABENO
DESCRIPTION:6月21日(土)\n「ABENO」\n会場:Meet’Space\n大阪府大阪市阿倍野区阿倍野筋２丁目１−１８ サードビル 4階 \n出演：山口大貴 / 大橋タカシ / YOSSYxYOSSY \n開場18:30 開演19:00 \n¥3500(1D別途) \nhttps://tiget.net/events/395164 \n\n\n※整理番号順入場 (開場10分前までは並ばないで下さい)
URL:https://yossyxyossy.com/event/abeno/
ATTACH;FMTTYPE=image/jpeg:https://yossyxyossy.com/wp-content/uploads/2025/04/写真-2025-04-29-1-19-31-2.jpg
END:VEVENT
BEGIN:VEVENT
DTSTART;VALUE=DATE:20250621
DTEND;VALUE=DATE:20250622
DTSTAMP:20260423T043807
CREATED:20250428T162400Z
LAST-MODIFIED:20250428T162400Z
UID:1251-1750464000-1750550399@yossyxyossy.com
SUMMARY:大阪で吉田vol.2
DESCRIPTION:6月21日(土)\n「大阪で吉田vol.2」\n会場:Meet’Space\n大阪府大阪市阿倍野区阿倍野筋２丁目１−１８ サードビル 4階 \n開場12:00 開演12:30 \n¥3500 (1D別途) \n予約 \nhttps://tiget.net/events/397165
URL:https://yossyxyossy.com/event/%e5%a4%a7%e9%98%aa%e3%81%a7%e5%90%89%e7%94%b0vol-2/
ATTACH;FMTTYPE=image/jpeg:https://yossyxyossy.com/wp-content/uploads/2025/04/写真-2025-04-29-1-19-31-1.jpg
END:VEVENT
END:VCALENDAR