BEGIN:VCALENDAR
VERSION:2.0
PRODID:-//YOSSYxYOSSY OFFICIAL SITE - ECPv6.2.4//NONSGML v1.0//EN
CALSCALE:GREGORIAN
METHOD:PUBLISH
X-ORIGINAL-URL:https://yossyxyossy.com
X-WR-CALDESC:YOSSYxYOSSY OFFICIAL SITE のイベント
REFRESH-INTERVAL;VALUE=DURATION:PT1H
X-Robots-Tag:noindex
X-PUBLISHED-TTL:PT1H
BEGIN:VTIMEZONE
TZID:Asia/Tokyo
BEGIN:STANDARD
TZOFFSETFROM:+0900
TZOFFSETTO:+0900
TZNAME:JST
DTSTART:20250101T000000
END:STANDARD
END:VTIMEZONE
BEGIN:VEVENT
DTSTART;VALUE=DATE:20250616
DTEND;VALUE=DATE:20250617
DTSTAMP:20260423T044404
CREATED:20250428T164847Z
LAST-MODIFIED:20250514T053051Z
UID:1278-1750032000-1750118399@yossyxyossy.com
SUMMARY:名迫僚太 ダイアモンドホールワンマン応援企画「Go!Upstairs!」
DESCRIPTION:6月16日(月） 名迫僚太 ダイアモンドホールワンマン応援企画  \nSPADEBOX/HeartLand  \n「Go!Upstairs!」 \n OP12:30/ST13:00  \n大北哲央/H.M.C/コボリツトム/そよかぜ大根雄馬/TAROO/哲誠/Peco/YOSSY \n ¥3000(1D別) \n  \n5月16日 21:00〜予約開始 \nhttps://tiget.net/events/400948 \n※当日整列順入場
URL:https://yossyxyossy.com/event/%e5%90%8d%e5%8f%a4%e5%b1%8b/
ATTACH;FMTTYPE=image/jpeg:https://yossyxyossy.com/wp-content/uploads/2025/04/写真-2025-05-14-14-19-56-2.jpg
END:VEVENT
END:VCALENDAR