BEGIN:VCALENDAR
VERSION:2.0
PRODID:-//YOSSYxYOSSY OFFICIAL SITE - ECPv6.2.4//NONSGML v1.0//EN
CALSCALE:GREGORIAN
METHOD:PUBLISH
X-ORIGINAL-URL:https://yossyxyossy.com
X-WR-CALDESC:YOSSYxYOSSY OFFICIAL SITE のイベント
REFRESH-INTERVAL;VALUE=DURATION:PT1H
X-Robots-Tag:noindex
X-PUBLISHED-TTL:PT1H
BEGIN:VTIMEZONE
TZID:Asia/Tokyo
BEGIN:STANDARD
TZOFFSETFROM:+0900
TZOFFSETTO:+0900
TZNAME:JST
DTSTART:20250101T000000
END:STANDARD
END:VTIMEZONE
BEGIN:VEVENT
DTSTART;VALUE=DATE:20250510
DTEND;VALUE=DATE:20250511
DTSTAMP:20260423T064807
CREATED:20250428T164046Z
LAST-MODIFIED:20250428T164046Z
UID:1267-1746835200-1746921599@yossyxyossy.com
SUMMARY:サウンドメッセ in OSAKA 2025
DESCRIPTION:サウンドメッセ in OSAKA 2025 \n詳細\nhttps://sound-messe.com/ \n2025年5月10日 (土) 11:00～18:30 \n前売券：1\,700円 / 当日券：2\,000円\n（*各プレイガイドにて発売予定） \n■18才以下：無料\n*要学生証または身分証明書 \n■70才以上：1\,500円（当日券のみ)\n*要年齢確認書類 \n■ハンディキャッパー：1\,500円（当日券のみ）\n*要障害者手帳 \n※消費税込
URL:https://yossyxyossy.com/event/%e3%82%b5%e3%82%a6%e3%83%b3%e3%83%89%e3%83%a1%e3%83%83%e3%82%bb-in-osaka-2025/
ATTACH;FMTTYPE=image/webp:https://yossyxyossy.com/wp-content/uploads/2025/04/title.webp
END:VEVENT
END:VCALENDAR