BEGIN:VCALENDAR
VERSION:2.0
PRODID:-//YOSSYxYOSSY OFFICIAL SITE - ECPv6.2.4//NONSGML v1.0//EN
CALSCALE:GREGORIAN
METHOD:PUBLISH
X-ORIGINAL-URL:https://yossyxyossy.com
X-WR-CALDESC:YOSSYxYOSSY OFFICIAL SITE のイベント
REFRESH-INTERVAL;VALUE=DURATION:PT1H
X-Robots-Tag:noindex
X-PUBLISHED-TTL:PT1H
BEGIN:VTIMEZONE
TZID:Asia/Tokyo
BEGIN:STANDARD
TZOFFSETFROM:+0900
TZOFFSETTO:+0900
TZNAME:JST
DTSTART:20250101T000000
END:STANDARD
END:VTIMEZONE
BEGIN:VEVENT
DTSTART;VALUE=DATE:20250506
DTEND;VALUE=DATE:20250507
DTSTAMP:20260423T064921
CREATED:20250428T164443Z
LAST-MODIFIED:20250428T164443Z
UID:1273-1746489600-1746575999@yossyxyossy.com
SUMMARY:HMR Collection Live
DESCRIPTION:2025年5月6日(火祝) \n「HMR Collection Live」 \n出演：山口大貴 / Star T Rat / YOSSYxYOSSY \n会場：イオン八事ショッピングセンター 愛知県名古屋市昭和区広路町石坂２−１ \n時間：❶13:00～ ❷15:00～ \n料金：観覧無料
URL:https://yossyxyossy.com/event/hmr-collection-live-5/
ATTACH;FMTTYPE=image/jpeg:https://yossyxyossy.com/wp-content/uploads/2025/04/写真-2025-04-29-1-19-31-4.jpg
END:VEVENT
END:VCALENDAR