BEGIN:VCALENDAR
VERSION:2.0
PRODID:-//YOSSYxYOSSY OFFICIAL SITE - ECPv6.2.4//NONSGML v1.0//EN
CALSCALE:GREGORIAN
METHOD:PUBLISH
X-ORIGINAL-URL:https://yossyxyossy.com
X-WR-CALDESC:YOSSYxYOSSY OFFICIAL SITE のイベント
REFRESH-INTERVAL;VALUE=DURATION:PT1H
X-Robots-Tag:noindex
X-PUBLISHED-TTL:PT1H
BEGIN:VTIMEZONE
TZID:Asia/Tokyo
BEGIN:STANDARD
TZOFFSETFROM:+0900
TZOFFSETTO:+0900
TZNAME:JST
DTSTART:20250101T000000
END:STANDARD
END:VTIMEZONE
BEGIN:VEVENT
DTSTART;VALUE=DATE:20250504
DTEND;VALUE=DATE:20250505
DTSTAMP:20260423T064921
CREATED:20250428T162608Z
LAST-MODIFIED:20250428T162608Z
UID:1254-1746316800-1746403199@yossyxyossy.com
SUMMARY:TOMOFES the REAL
DESCRIPTION:《会場》amHALL \n《出演》TOMOKI/秋休/植田健一/H.M.C/大橋タカシ/ZILCONIA/そよかぜ大根雄馬/TrickTrip/名迫僚太/Uken/YOSSYxYOSSY \n《時間》開場11:00/開演11:30/終演予定20:30 \n《チケット》前売り5500円/当日6000円（D代別途要）\n※チケット代とは別に手数料がかかります。\nキャンセル不可 \n●一次抽選\n申込期間　4/17 10:00～4/20 23:59\n抽選結果発表　4/22 21:00\n申込枚数制限　4枚\nお目当てのアーティストのチケットページよりご購入手続きを行ってください。\nお支払い方法：クレジット決済、コンビニ決済 \n●二次抽選（一次抽選で残券があった場合のみ）\n申込期間　4/24 10:00～4/27 23:59\n抽選結果発表　4/29 21:00\n申込枚数制限　4枚\nアーティスト別ではなく一括でのチケットページになります。\nお支払い方法：クレジット決済のみ \n《入場に関して》\n●当日整列順入場。\n※10:30からの整列をお願いいたします。この時間より前からの整列や会場入口付近での場所取りをされている方は列の最後尾へ移動して頂きます。予めご了承ください。 \n●受付はQRコードにて行います。ご入場の際は予めQRコードのご準備をお願いいたします。
URL:https://yossyxyossy.com/event/tomofes-the-real/
ATTACH;FMTTYPE=image/jpeg:https://yossyxyossy.com/wp-content/uploads/2025/04/456c5b88-9cfd-4a3a-b822-3bf404e660f2.jpg
END:VEVENT
END:VCALENDAR