BEGIN:VCALENDAR
VERSION:2.0
PRODID:-//YOSSYxYOSSY OFFICIAL SITE - ECPv6.2.4//NONSGML v1.0//EN
CALSCALE:GREGORIAN
METHOD:PUBLISH
X-ORIGINAL-URL:https://yossyxyossy.com
X-WR-CALDESC:YOSSYxYOSSY OFFICIAL SITE のイベント
REFRESH-INTERVAL;VALUE=DURATION:PT1H
X-Robots-Tag:noindex
X-PUBLISHED-TTL:PT1H
BEGIN:VTIMEZONE
TZID:Asia/Tokyo
BEGIN:STANDARD
TZOFFSETFROM:+0900
TZOFFSETTO:+0900
TZNAME:JST
DTSTART:20250101T000000
END:STANDARD
END:VTIMEZONE
BEGIN:VEVENT
DTSTART;VALUE=DATE:20250420
DTEND;VALUE=DATE:20250421
DTSTAMP:20260423T083923
CREATED:20250307T125804Z
LAST-MODIFIED:20250307T125804Z
UID:1210-1745107200-1745193599@yossyxyossy.com
SUMMARY:神戸２マン
DESCRIPTION:詳細をお待ちください
URL:https://yossyxyossy.com/event/%e7%a5%9e%e6%88%b8%ef%bc%92%e3%83%9e%e3%83%b3/
END:VEVENT
BEGIN:VEVENT
DTSTART;VALUE=DATE:20250420
DTEND;VALUE=DATE:20250421
DTSTAMP:20260423T083923
CREATED:20250307T133326Z
LAST-MODIFIED:20250307T133326Z
UID:1226-1745107200-1745193599@yossyxyossy.com
SUMMARY:信政誠＆YOSSY×YOSSY　カフェ２マンライブ
DESCRIPTION:■4月20日(日) \n信政誠＆YOSSY×YOSSY　カフェ２マンライブ\n\n会場　神戸・のわのわカフェ 地下\n時間　開場17:00／開演17:30\n料金　￥3500（別途１オーダー制）\n出演　信政誠、YOSSY×YOSSY\n住所 兵庫県神戸市中央区加納町３丁目１２-１３ 浜川ビル１F \n予約はこちら\nhttps://tiget.net/events/385533
URL:https://yossyxyossy.com/event/%e4%bf%a1%e6%94%bf%e8%aa%a0%ef%bc%86yossyxyossy%e3%80%80%e3%82%ab%e3%83%95%e3%82%a7%ef%bc%92%e3%83%9e%e3%83%b3%e3%83%a9%e3%82%a4%e3%83%96-2/
ATTACH;FMTTYPE=image/jpeg:https://yossyxyossy.com/wp-content/uploads/2025/03/S__26198056.jpg
END:VEVENT
END:VCALENDAR