BEGIN:VCALENDAR
VERSION:2.0
PRODID:-//YOSSYxYOSSY OFFICIAL SITE - ECPv6.2.4//NONSGML v1.0//EN
CALSCALE:GREGORIAN
METHOD:PUBLISH
X-ORIGINAL-URL:https://yossyxyossy.com
X-WR-CALDESC:YOSSYxYOSSY OFFICIAL SITE のイベント
REFRESH-INTERVAL;VALUE=DURATION:PT1H
X-Robots-Tag:noindex
X-PUBLISHED-TTL:PT1H
BEGIN:VTIMEZONE
TZID:Asia/Tokyo
BEGIN:STANDARD
TZOFFSETFROM:+0900
TZOFFSETTO:+0900
TZNAME:JST
DTSTART:20250101T000000
END:STANDARD
END:VTIMEZONE
BEGIN:VEVENT
DTSTART;VALUE=DATE:20250419
DTEND;VALUE=DATE:20250420
DTSTAMP:20260423T090302
CREATED:20250307T123338Z
LAST-MODIFIED:20250307T123338Z
UID:1192-1745020800-1745107199@yossyxyossy.com
SUMMARY:U can do it‼︎‼︎~Merry Crescendo~
DESCRIPTION:■日程：2025年4/19(土)\n■会場：Remember U\n■公演名：U can do it‼︎‼︎~Merry Crescendo~\n■時間：開場 17:30 開演18:00\n■料金：前売3\,500円 当日 4\,000円(+1drink別500円)\n■出演：山口大貴/TOMOKI/Uken/YOSSYxYOSSY/ \n2月24日20 時〜予約開始\nhttps://tiget.net/events/381202\n※座席数が少ないです、全体で売り切れた場合予約が受けられなくなりますので、お早目のご予約をお待ちしております。 \n会場へ直接予約も可能です⬇️\nhttps://remember-u.net/contact/\n問い合わせ内容欄に　①公演日 ②予約代表者名(ふりがな) ③予約人数 ④指名アーティスト　を入力送信願います。 \n[入場方法] 当日並んだ順の入場\n＊当日開場10分前にスタッフがお呼びした時間より並んだ方順の入場となります！\n(スタッフがお呼びするまでは近隣のご迷惑になりますのでお並び頂けませんのでご注意ください。)
URL:https://yossyxyossy.com/event/u-can-do-it%e2%80%bc%ef%b8%8e%e2%80%bc%ef%b8%8emerry-crescendo/
ATTACH;FMTTYPE=image/jpeg:https://yossyxyossy.com/wp-content/uploads/2025/03/写真-2025-03-07-20-21-16-2.jpg
END:VEVENT
END:VCALENDAR