BEGIN:VCALENDAR
VERSION:2.0
PRODID:-//YOSSYxYOSSY OFFICIAL SITE - ECPv6.2.4//NONSGML v1.0//EN
CALSCALE:GREGORIAN
METHOD:PUBLISH
X-ORIGINAL-URL:https://yossyxyossy.com
X-WR-CALDESC:YOSSYxYOSSY OFFICIAL SITE のイベント
REFRESH-INTERVAL;VALUE=DURATION:PT1H
X-Robots-Tag:noindex
X-PUBLISHED-TTL:PT1H
BEGIN:VTIMEZONE
TZID:Asia/Tokyo
BEGIN:STANDARD
TZOFFSETFROM:+0900
TZOFFSETTO:+0900
TZNAME:JST
DTSTART:20250101T000000
END:STANDARD
END:VTIMEZONE
BEGIN:VEVENT
DTSTART;VALUE=DATE:20250323
DTEND;VALUE=DATE:20250324
DTSTAMP:20260423T105437
CREATED:20250307T124544Z
LAST-MODIFIED:20250307T124544Z
UID:1202-1742688000-1742774399@yossyxyossy.com
SUMMARY:夢見月ツアー2025～横浜
DESCRIPTION:■2025年3月23日(日)\n【タイトル】\n夢見月ツアー2025～横浜\n【時間】\nOPEN17:00 / START17:30\n【料金】\n前売¥4\,000/当日¥4\,500(ドリンク代別)\n【出演者】\nuuuuuuuU/YOSSY×YOSSY/H.M.C\n【会場】\n新横浜strage\n神奈川県横浜市港北区新横浜３丁目１０ 横浜アリーナ1階\n【入場順】\n1. メール予約(番号順)\n2.当日券 \n予約\nhttps://tiget.net/events/361754
URL:https://yossyxyossy.com/event/%e5%a4%a2%e8%a6%8b%e6%9c%88%e3%83%84%e3%82%a2%e3%83%bc2025%ef%bd%9e%e6%a8%aa%e6%b5%9c/
ATTACH;FMTTYPE=image/jpeg:https://yossyxyossy.com/wp-content/uploads/2025/03/IMG_1912.jpg
END:VEVENT
END:VCALENDAR