BEGIN:VCALENDAR
VERSION:2.0
PRODID:-//YOSSYxYOSSY OFFICIAL SITE - ECPv6.2.4//NONSGML v1.0//EN
CALSCALE:GREGORIAN
METHOD:PUBLISH
X-ORIGINAL-URL:https://yossyxyossy.com
X-WR-CALDESC:YOSSYxYOSSY OFFICIAL SITE のイベント
REFRESH-INTERVAL;VALUE=DURATION:PT1H
X-Robots-Tag:noindex
X-PUBLISHED-TTL:PT1H
BEGIN:VTIMEZONE
TZID:Asia/Tokyo
BEGIN:STANDARD
TZOFFSETFROM:+0900
TZOFFSETTO:+0900
TZNAME:JST
DTSTART:20250101T000000
END:STANDARD
END:VTIMEZONE
BEGIN:VEVENT
DTSTART;VALUE=DATE:20250322
DTEND;VALUE=DATE:20250323
DTSTAMP:20260423T124042
CREATED:20250307T124450Z
LAST-MODIFIED:20250307T124450Z
UID:1200-1742601600-1742687999@yossyxyossy.com
SUMMARY:夢見月ツアー2025～新潟
DESCRIPTION:■2025年3月22日(土)\n【タイトル】\n夢見月ツアー2025～新潟\n【時間】\nOPEN18:30 / START19:00\n【料金】\n前売¥3\,500/当日¥4\,000(ドリンク代別)\n【出演者】\nuuuuuuuU/YOSSY×YOSSY/H.M.C\n【会場】\nBlue Cafe\n新潟県新潟市中央区上大川前通７番町１２３７−１ サンシャイン新飯田屋 ２Ｆ\n【入場順】\n1. メール予約(番号順)\n2.当日券 \n予約\nhttps://tiget.net/events/361753
URL:https://yossyxyossy.com/event/%e5%a4%a2%e8%a6%8b%e6%9c%88%e3%83%84%e3%82%a2%e3%83%bc2025%ef%bd%9e%e6%96%b0%e6%bd%9f/
ATTACH;FMTTYPE=image/jpeg:https://yossyxyossy.com/wp-content/uploads/2025/03/IMG_1912.jpg
END:VEVENT
END:VCALENDAR