BEGIN:VCALENDAR
VERSION:2.0
PRODID:-//YOSSYxYOSSY OFFICIAL SITE - ECPv6.2.4//NONSGML v1.0//EN
CALSCALE:GREGORIAN
METHOD:PUBLISH
X-WR-CALNAME:YOSSYxYOSSY OFFICIAL SITE
X-ORIGINAL-URL:https://yossyxyossy.com
X-WR-CALDESC:YOSSYxYOSSY OFFICIAL SITE のイベント
REFRESH-INTERVAL;VALUE=DURATION:PT1H
X-Robots-Tag:noindex
X-PUBLISHED-TTL:PT1H
BEGIN:VTIMEZONE
TZID:Asia/Tokyo
BEGIN:STANDARD
TZOFFSETFROM:+0900
TZOFFSETTO:+0900
TZNAME:JST
DTSTART:20250101T000000
END:STANDARD
END:VTIMEZONE
BEGIN:VEVENT
DTSTART;VALUE=DATE:20250320
DTEND;VALUE=DATE:20250321
DTSTAMP:20260423T104837
CREATED:20250307T124255Z
LAST-MODIFIED:20250307T124255Z
UID:1195-1742428800-1742515199@yossyxyossy.com
SUMMARY:夢見月ツアー2025～仙台
DESCRIPTION:  \n■2025年3月20日(木祝)\n【タイトル】\n夢見月ツアー2025～仙台\n【時間】\nOPEN14:30 / START15:00\n【料金】\n前売¥3\,500/当日¥4\,000(ドリンク代別)\n【出演者】\nuuuuuuuU/YOSSY×YOSSY/H.M.C\n【会場】\n仙台ガブチカ\n宮城県仙台市青葉区一番町4-6-14プランドビル一番町B1\n【入場順】\n1. メール予約(番号順)\n2.当日券 \n仙台予約11/28日(木)20:00～\nhttps://tiget.net/events/361751
URL:https://yossyxyossy.com/event/%e5%a4%a2%e8%a6%8b%e6%9c%88%e3%83%84%e3%82%a2%e3%83%bc2025%ef%bd%9e%e4%bb%99%e5%8f%b0/
ATTACH;FMTTYPE=image/jpeg:https://yossyxyossy.com/wp-content/uploads/2025/03/IMG_1912.jpg
END:VEVENT
END:VCALENDAR