BEGIN:VCALENDAR
VERSION:2.0
PRODID:-//YOSSYxYOSSY OFFICIAL SITE - ECPv6.2.4//NONSGML v1.0//EN
CALSCALE:GREGORIAN
METHOD:PUBLISH
X-WR-CALNAME:YOSSYxYOSSY OFFICIAL SITE
X-ORIGINAL-URL:https://yossyxyossy.com
X-WR-CALDESC:YOSSYxYOSSY OFFICIAL SITE のイベント
REFRESH-INTERVAL;VALUE=DURATION:PT1H
X-Robots-Tag:noindex
X-PUBLISHED-TTL:PT1H
BEGIN:VTIMEZONE
TZID:Asia/Tokyo
BEGIN:STANDARD
TZOFFSETFROM:+0900
TZOFFSETTO:+0900
TZNAME:JST
DTSTART:20250101T000000
END:STANDARD
END:VTIMEZONE
BEGIN:VEVENT
DTSTART;VALUE=DATE:20250316
DTEND;VALUE=DATE:20250317
DTSTAMP:20260423T104955
CREATED:20250307T121847Z
LAST-MODIFIED:20250307T121847Z
UID:1180-1742083200-1742169599@yossyxyossy.com
SUMMARY:HMR Collection LIVE
DESCRIPTION:2025年3月16日(日)\n「HMR Collection LIVE」\n出演：山口大貴 / 想ワレ / YOSSYxYOSSY\n会場：イオン八事ショッピングセンター\n愛知県名古屋市昭和区広路町石坂２−１\n時間：❶12:00～ ❷14:00～\n料金：観覧無料\nhttps://www.aeon.jp/sc/yagoto/\n主催/企画：株式会社Lit -Heart Music Records-
URL:https://yossyxyossy.com/event/hmr-collection-live-2/
ATTACH;FMTTYPE=image/jpeg:https://yossyxyossy.com/wp-content/uploads/2025/03/写真-2025-03-07-20-21-16-6.jpg
END:VEVENT
END:VCALENDAR