BEGIN:VCALENDAR
VERSION:2.0
PRODID:-//YOSSYxYOSSY OFFICIAL SITE - ECPv6.2.4//NONSGML v1.0//EN
CALSCALE:GREGORIAN
METHOD:PUBLISH
X-ORIGINAL-URL:https://yossyxyossy.com
X-WR-CALDESC:YOSSYxYOSSY OFFICIAL SITE のイベント
REFRESH-INTERVAL;VALUE=DURATION:PT1H
X-Robots-Tag:noindex
X-PUBLISHED-TTL:PT1H
BEGIN:VTIMEZONE
TZID:Asia/Tokyo
BEGIN:STANDARD
TZOFFSETFROM:+0900
TZOFFSETTO:+0900
TZNAME:JST
DTSTART:20250101T000000
END:STANDARD
END:VTIMEZONE
BEGIN:VEVENT
DTSTART;VALUE=DATE:20250315
DTEND;VALUE=DATE:20250316
DTSTAMP:20260423T125423
CREATED:20250307T121802Z
LAST-MODIFIED:20250307T121802Z
UID:1177-1741996800-1742083199@yossyxyossy.com
SUMMARY:月光歌-Moonlight- vol.9
DESCRIPTION:2025年3月15日(土)\n山口大貴 × YOSSY 2MAN Live\n「月光歌-Moonlight- vol.9」\n会場：LOCUS\n愛知県名古屋市中村区太閤通5丁目22-30 太閤通522ビル4F\n出演：山口大貴 / YOSSY x YOSSY\n開場18:00 開演18:30\n前売¥3\,500 当日¥4\,000(1D別)\n配信¥3\,000\n\n▽来場電子チケット 2025.2.12 21:00〜\nhttps://tiget.net/events/379534\n(一括予約)\n\n\n▽配信チケット\nhttps://twitcasting.tv/c:heartmusicrecords/shopcart/359173
URL:https://yossyxyossy.com/event/%e6%9c%88%e5%85%89%e6%ad%8c-moonlight-vol-9/
ATTACH;FMTTYPE=image/jpeg:https://yossyxyossy.com/wp-content/uploads/2025/03/写真-2025-03-07-20-21-16-5.jpg
END:VEVENT
END:VCALENDAR